BEGIN:VCALENDAR
VERSION:2.0
PRODID:-//ChamberMaster//Event Calendar 2.0//EN
METHOD:PUBLISH
X-PUBLISHED-TTL:P3D
REFRESH-INTERVAL:P3D
CALSCALE:GREGORIAN
BEGIN:VEVENT
DTSTART:20110916T043000Z
DTEND:20110915T180000Z
X-MICROSOFT-CDO-ALLDAYEVENT:FALSE
SUMMARY:2011 September*Ambassador Lunch Meeting
DESCRIPTION:DATE/TIME: Thursday\, September 15\, 2011 / 11:30 AM to 1:00 PMLOCATION: Carino's Italian1301 N FM 1604 W @ Blanco just pass the VineyardsSan Antonio Tx 78258210-493-9998Menu: Appetizers: Hot Wings & Mini Pizza Entrée Choices: Chicken Fettuccine • Spaghetti and Meatballs • Angel Hair with Artichokes • Skilletini (chicken\, sausage\, or combo) • Grilled Chicken Bowtie Festival • Chicken Parmesan Panini (half portion) • Create Your Own Pasta (alfredo\, tomato\, or spicy marinara)Includes * Choice of Caesar\, House Salad or Soup of the dayBeverage: Water\, tea or sodaPRICE: $14.50 all inclusive ~ Please indicate your menu selection at registration. RSVP'S: DEADLINE IS Monday –Sept 12\, 2011- NOON WITH PAYMENT FOR YOUR TEAM’S EXTRA 300 POINTS. Registration goes off website midnight Wednesday Sept 14\, 2011. REGISTER ON LINE WITH CREDIT CARD AT www.northsachamber.com
X-ALT-DESC;FMTTYPE=text/html:<DIV><SPAN lang=EN><SPAN lang=EN><P>DATE/TIME: <FONT face=Verdana>Thursday\, September 15\, 2011 / 11:30 AM to 1:00 PM</P></FONT><U><P></P><DIR><DIR><DIR><DIR><DIR><DIR><P>LOCATION:</U> </P></DIR></DIR></DIR></DIR></DIR></DIR></SPAN><P align=center><CENTER><TABLE dir=ltr border=0 cellSpacing=0 cellPadding=1 width=439><TBODY><TR><TD><FONT face=Verdana><SPAN lang=EN><P>Carino's Italian</FONT></SPAN></P></TD></TR><TR><TD><FONT face=Verdana><SPAN lang=EN><P>1301 N FM 1604 W @ Blanco just pass the Vineyards</FONT></SPAN></P></TD></TR><TR><TD><FONT face=Verdana><SPAN lang=EN><P>San Antonio Tx 78258</FONT></SPAN></P></TD></TR><TR><TD><FONT face=Arial><SPAN lang=EN><P>210-493-9998</FONT></SPAN></P></TD></TR></TBODY></TABLE></CENTER><P></P><DIR><DIR><DIR><DIR><DIR><DIR><B><SPAN lang=EN><P></P></DIR></DIR></DIR></DIR></DIR></DIR><U><P>Menu:</U> </P><FONT face=Arial></B><P></P><B><P>Appetizers: </B>Hot Wings &amp\; Mini Pizza </P><B><P>Entrée Choices: </B>Chicken Fettuccine </FONT><FONT face=Arial>•</FONT><FONT face=Arial> Spaghetti and Meatballs </FONT><FONT face=Arial>•</FONT><FONT face=Arial> Angel Hair with Artichokes </FONT><FONT face=Arial>•</FONT><FONT face=Arial> Skilletini (chicken\, sausage\, or combo) </FONT><FONT face=Arial>•</FONT><FONT face=Arial> Grilled Chicken Bowtie Festival </FONT><FONT face=Arial>•</FONT><FONT face=Arial> Chicken Parmesan Panini (half portion) </FONT><FONT face=Arial>•</FONT><FONT face=Arial> Create Your Own Pasta (alfredo\, tomato\, or spicy marinara)</P><P>Includes * <B><I>Choice of Caesar\, House Salad or Soup of the day</P></I><P>Beverage</B>: Water\, tea or soda</P><P></FONT><B></P><U><P>PRICE:</U> <FONT color=#ff0000>$14.50 all inclusive ~ Please indicate your menu selection at registration. </P></FONT><DIR><DIR><DIR><DIR><DIR><DIR><U><P>RSVP'S:</U> <U><FONT color=#0000ff>DEADLINE IS Monday –Sept 12\, 2011- NOON WITH PAYMENT FOR YOUR TEAM’S EXTRA 300 POINTS.</FONT><FONT color=#993300> </P></FONT><FONT color=#c00000><P>Registration goes off website midnight Wednesday Sept 14\, 2011. </P></FONT></DIR></DIR></DIR></DIR></DIR></DIR></U><FONT color=#c00000><P>REGISTER ON LINE WITH CREDIT CARD AT</FONT><FONT color=#ff0000> </B></FONT></SPAN><A href="http://www.northsachamber.com/"><B><U><FONT color=#0000ff><SPAN lang=EN>www.northsachamber.com</B></U></FONT></SPAN></A></P><B><FONT color=#ff0000 size=4><FONT color=#ff0000 size=4><SPAN lang=EN></B></FONT></FONT><FONT size=2 face=Arial><FONT size=2 face=Arial><P></P><P></P><P></P></FONT></FONT></SPAN><P>&nbsp\;</P></SPAN><SPAN lang=EN><FONT size=2 face=Arial><FONT size=2 face=Arial><P></P><P></P><P></P></FONT></FONT></SPAN></DIV>
LOCATION:Carino's Italian
UID:e.2020.890
SEQUENCE:3
DTSTAMP:20260422T042721Z
URL:https://cm-dev.metrosa.com/events/details/2011-september-ambassador-lunch-meeting-09-15-2011-890
END:VEVENT

END:VCALENDAR
