BEGIN:VCALENDAR
VERSION:2.0
PRODID:-//ChamberMaster//Event Calendar 2.0//EN
METHOD:PUBLISH
X-PUBLISHED-TTL:P3D
REFRESH-INTERVAL:P3D
CALSCALE:GREGORIAN
BEGIN:VEVENT
DTSTART:20110916T121500Z
DTEND:20110916T140000Z
X-MICROSOFT-CDO-ALLDAYEVENT:FALSE
SUMMARY:2011 September*Chairmans Council Breakfast
DESCRIPTION:
X-ALT-DESC;FMTTYPE=text/html:<DIV>&nbsp\;</DIV>
LOCATION:The Petroleum Club
UID:e.2020.893
SEQUENCE:3
DTSTAMP:20260422T042702Z
URL:https://cm-dev.metrosa.com/events/details/2011-september-chairmans-council-breakfast-09-16-2011-893
END:VEVENT

END:VCALENDAR
