BEGIN:VCALENDAR
VERSION:2.0
PRODID:-//ChamberMaster//Event Calendar 2.0//EN
METHOD:PUBLISH
X-PUBLISHED-TTL:P3D
REFRESH-INTERVAL:P3D
CALSCALE:GREGORIAN
BEGIN:VEVENT
DTSTART:20110922T121500Z
DTEND:20110922T140000Z
X-MICROSOFT-CDO-ALLDAYEVENT:FALSE
SUMMARY:2011 September CIO Breakfast
DESCRIPTION:Topic:  Thinking Like a CFO: A Matter of Dollars and Sense In today's economic environment\, finding a balance through which IT investments help drive key business initiatives requires greater accountability on IT Management for commitments on cost savings and revenue increases that are made as part of the portfolio of business cases.  Given IT's record when it comes to implementing projects on-time\, on budget\, and to specification\, it is easy to understand why the Finance department is skeptical and wants IT to deliver realistic budgets and project plans.
X-ALT-DESC;FMTTYPE=text/html:<P style="MARGIN: 0in 0in 0pt" class=MsoNormal><FONT face=Calibri>Topic:<SPAN style="mso-spacerun: yes">&nbsp\; </SPAN>Thinking Like a CFO: A Matter of Dollars and Sense <?xml:namespace prefix = o ns = "urn:schemas-microsoft-com:office:office" /><o:p></o:p></FONT></P><P style="MARGIN: 0in 0in 0pt" class=MsoNormal><FONT face=Calibri>In today's economic environment\, finding a balance through which IT investments help drive key business initiatives requires greater accountability on IT Management for commitments on cost savings and revenue increases that are made as part of the portfolio of business cases.&nbsp\; Given IT's record when it comes to implementing projects on-time\, on budget\, and to specification\, it is easy to understand why the Finance department is skeptical and wants IT to deliver realistic budgets and project plans.<o:p></o:p></FONT></P><P style="MARGIN: 0in 0in 0pt" class=MsoNormal><o:p><FONT face=Calibri>&nbsp\;</FONT></o:p></P><P>&nbsp\;</P>
LOCATION:The Petroleum Club
UID:e.2020.854
SEQUENCE:3
DTSTAMP:20260422T042549Z
URL:https://cm-dev.metrosa.com/events/details/2011-september-cio-breakfast-09-22-2011-854
END:VEVENT

END:VCALENDAR
