BEGIN:VCALENDAR
VERSION:2.0
PRODID:-//ChamberMaster//Event Calendar 2.0//EN
METHOD:PUBLISH
X-PUBLISHED-TTL:P3D
REFRESH-INTERVAL:P3D
CALSCALE:GREGORIAN
BEGIN:VEVENT
DTSTART:20120426T121500Z
DTEND:20120426T140000Z
X-MICROSOFT-CDO-ALLDAYEVENT:FALSE
SUMMARY:2012 April CIO Breakfast
DESCRIPTION:"Top 10 Myths of Agile:  What works\, what doesn't and why.  During this presentation\, Heidi Musser\, VP\, IT Shared Services at USAA\, will discuss how USAA is implementing Agile best practices."
X-ALT-DESC;FMTTYPE=text/html:<P><SPAN style="FONT-FAMILY: 'Calibri'\,'sans-serif'\; FONT-SIZE: 11pt\; mso-ascii-theme-font: minor-latin\; mso-fareast-font-family: Calibri\; mso-fareast-theme-font: minor-latin\; mso-hansi-theme-font: minor-latin\; mso-bidi-font-family: 'Times New Roman'\; mso-bidi-theme-font: minor-bidi\; mso-ansi-language: EN-US\; mso-fareast-language: EN-US\; mso-bidi-language: AR-SA">"Top 10 Myths of Agile:<SPAN style="mso-spacerun: yes">&nbsp\; </SPAN>What works\, what doesn't and why.<SPAN style="mso-spacerun: yes">&nbsp\; </SPAN></SPAN></P><P><SPAN style="FONT-FAMILY: 'Calibri'\,'sans-serif'\; FONT-SIZE: 11pt\; mso-ascii-theme-font: minor-latin\; mso-fareast-font-family: Calibri\; mso-fareast-theme-font: minor-latin\; mso-hansi-theme-font: minor-latin\; mso-bidi-font-family: 'Times New Roman'\; mso-bidi-theme-font: minor-bidi\; mso-ansi-language: EN-US\; mso-fareast-language: EN-US\; mso-bidi-language: AR-SA"><SPAN style="mso-spacerun: yes"></SPAN>During this presentation\, Heidi Musser\, VP\, IT Shared Services at USAA\, will discuss how USAA is implementing Agile best practices."</SPAN></P><P>&nbsp\;</P>
LOCATION:Petroleum Club of San Antonio
UID:e.2020.975
SEQUENCE:3
DTSTAMP:20260421T181402Z
URL:https://cm-dev.metrosa.com/events/details/2012-april-cio-breakfast-04-26-2012-975
END:VEVENT

END:VCALENDAR
