BEGIN:VCALENDAR
VERSION:2.0
PRODID:-//ChamberMaster//Event Calendar 2.0//EN
METHOD:PUBLISH
X-PUBLISHED-TTL:P3D
REFRESH-INTERVAL:P3D
CALSCALE:GREGORIAN
BEGIN:VEVENT
DTSTART:20120424T223000Z
DTEND:20120425T003000Z
X-MICROSOFT-CDO-ALLDAYEVENT:FALSE
SUMMARY:2012 April Cocktails & Connections
DESCRIPTION:We are at capacity\; no walk-ins accepted at this time.For questions\, please call 210-384-7727.
X-ALT-DESC;FMTTYPE=text/html:<P><FONT size=4><STRONG>We are at capacity\; no walk-ins accepted at this time.</STRONG></FONT></P><P><STRONG><FONT size=4>For questions\, please call 210-384-7727.</FONT></STRONG></P>
LOCATION:Perry's Steakhouse and Grill
UID:e.2020.946
SEQUENCE:3
DTSTAMP:20260421T182313Z
URL:https://cm-dev.metrosa.com/events/details/2012-april-cocktails-connections-04-24-2012-946
END:VEVENT

END:VCALENDAR
