BEGIN:VCALENDAR
VERSION:2.0
PRODID:-//ChamberMaster//Event Calendar 2.0//EN
METHOD:PUBLISH
X-PUBLISHED-TTL:P3D
REFRESH-INTERVAL:P3D
CALSCALE:GREGORIAN
BEGIN:VEVENT
DTSTART:20120419T003000Z
DTEND:20120419T020000Z
X-MICROSOFT-CDO-ALLDAYEVENT:FALSE
SUMMARY:2012 April Internship Meeting
DESCRIPTION:Pilot Meeting for Internship WorkshopBreakfast will be served
X-ALT-DESC;FMTTYPE=text/html:<DIV style="FONT-FAMILY: Arial">Pilot Meeting for Internship Workshop</DIV><DIV style="FONT-FAMILY: Arial">Breakfast will be served</DIV>
LOCATION:North Chamber Board Room
UID:e.2020.989
SEQUENCE:3
DTSTAMP:20260421T182009Z
URL:https://cm-dev.metrosa.com/events/details/2012-april-internship-meeting-04-18-2012-989
END:VEVENT

END:VCALENDAR
