BEGIN:VCALENDAR
VERSION:2.0
PRODID:-//ChamberMaster//Event Calendar 2.0//EN
METHOD:PUBLISH
X-PUBLISHED-TTL:P3D
REFRESH-INTERVAL:P3D
CALSCALE:GREGORIAN
BEGIN:VEVENT
DTSTART:20120823T121500Z
DTEND:20120823T140000Z
X-MICROSOFT-CDO-ALLDAYEVENT:FALSE
SUMMARY:2012 Aug CIO Brkfst- Remember: 2nd Fl Garage Parking&Dress for outside tour
DESCRIPTION:PLEASE PARK IN THE GARAGE\, 2ND FLOORTake the skybridge across to the FULL GOODS BUILDING and then take the steps down to 1st floorCIO Breakfast & presentation will be on the ground floor in the STUDIO meeting room Also\, as we will be touring the property\, outside\, in the August heat - please dress comfortably. Please join us for an exciting and unique inside look at the Pearl Brewery!  CIO Breakfast attendees will be given a special presentation and tour of the Pearl complex – including areas of future expansion.  The Pearl is a culinary and cultural destination in San Antonio – and in Texas. This historic gathering place is where everyone is welcome to eat\, play\, learn\, and live along the banks of the San Antonio River.  Come learn why the Pearl is a key component of San Antonio’s effort to provide opportunities for professional looking to live and work in an urban environment.  As employers\, the Pearl is an extraordinary showcase for recruiting and retaining employees.
X-ALT-DESC;FMTTYPE=text/html:<P style="MARGIN: 0in 0in 0pt" class=MsoNormal><SPAN style="FONT-FAMILY: 'Calibri'\,'sans-serif'\; COLOR: #1f497d\; mso-fareast-font-family: 'Times New Roman'"><FONT style="BACKGROUND-COLOR: #ffff00">PLEASE PARK IN THE GARAGE\, 2ND FLOOR</FONT></SPAN></P><P style="MARGIN: 0in 0in 0pt" class=MsoNormal><SPAN style="FONT-FAMILY: 'Calibri'\,'sans-serif'\; COLOR: #1f497d\; mso-fareast-font-family: 'Times New Roman'"><FONT style="BACKGROUND-COLOR: #ffff00">Take the skybridge across to the FULL GOODS BUILDING and then take the steps down to 1st floor</FONT></SPAN></P><P style="MARGIN: 0in 0in 0pt" class=MsoNormal><SPAN style="FONT-FAMILY: 'Calibri'\,'sans-serif'\; COLOR: #1f497d\; mso-fareast-font-family: 'Times New Roman'"><FONT style="BACKGROUND-COLOR: #ffff00">CIO Breakfast &amp\; presentation will be on the ground floor in the STUDIO&nbsp\;meeting room</FONT></SPAN></P><P style="MARGIN: 0in 0in 0pt" class=MsoNormal><SPAN style="FONT-FAMILY: 'Calibri'\,'sans-serif'\; COLOR: #1f497d\; mso-fareast-font-family: 'Times New Roman'"><FONT style="BACKGROUND-COLOR: #ffff00"></FONT></SPAN>&nbsp\;</P><P style="MARGIN: 0in 0in 0pt" class=MsoNormal><SPAN style="FONT-FAMILY: 'Calibri'\,'sans-serif'\; COLOR: #1f497d\; mso-fareast-font-family: 'Times New Roman'"><FONT style="BACKGROUND-COLOR: #ffff00">Also\, as we will be touring the property\, outside\, in the August heat - please dress comfortably.</FONT></SPAN></P><P style="MARGIN: 0in 0in 0pt" class=MsoNormal><SPAN style="FONT-FAMILY: 'Calibri'\,'sans-serif'\; COLOR: #1f497d\; mso-fareast-font-family: 'Times New Roman'"></SPAN>&nbsp\;</P><P style="MARGIN: 0in 0in 0pt" class=MsoNormal><SPAN style="FONT-FAMILY: 'Calibri'\,'sans-serif'\; COLOR: #1f497d\; mso-fareast-font-family: 'Times New Roman'">Please join us for an exciting and unique inside look at the Pearl Brewery!&nbsp\; CIO Breakfast attendees will be given a special presentation and tour of the Pearl complex – including areas of future expansion.&nbsp\; The Pearl is a culinary and cultural destination in San Antonio – and in Texas. This historic gathering place is where everyone is welcome to eat\, play\, learn\, and live along the banks of the San Antonio River.&nbsp\; Come learn why the Pearl is a key component of San Antonio’s effort to provide opportunities for professional looking to live and work in an urban environment.&nbsp\; As employers\, the Pearl is an extraordinary showcase for recruiting and retaining employees. </SPAN><SPAN style="FONT-FAMILY: 'Calibri'\,'sans-serif'\; FONT-SIZE: 11pt\; mso-fareast-font-family: 'Times New Roman'"><?xml:namespace prefix = o ns = "urn:schemas-microsoft-com:office:office" /><o:p></o:p></SPAN></P>
LOCATION:The Pearl
UID:e.2020.979
SEQUENCE:3
DTSTAMP:20260421T124119Z
URL:https://cm-dev.metrosa.com/events/details/2012-aug-cio-brkfst-remember-2nd-fl-garage-parking-dress-for-outside-tour-08-23-2012-979
END:VEVENT

END:VCALENDAR
