BEGIN:VCALENDAR
VERSION:2.0
PRODID:-//ChamberMaster//Event Calendar 2.0//EN
METHOD:PUBLISH
X-PUBLISHED-TTL:P3D
REFRESH-INTERVAL:P3D
CALSCALE:GREGORIAN
BEGIN:VEVENT
DTSTART:20120822T120000Z
DTEND:20120822T150000Z
X-MICROSOFT-CDO-ALLDAYEVENT:FALSE
SUMMARY:2012 August*LLA Education Seminar: SA2020-Get Involved!
DESCRIPTION:
X-ALT-DESC;FMTTYPE=text/html:
LOCATION:Padgett Stratemann & Co.\, LLP
UID:e.2020.1027
SEQUENCE:3
DTSTAMP:20260421T123616Z
URL:https://cm-dev.metrosa.com/events/details/2012-august-lla-education-seminar-sa2020-get-involved-08-22-2012-1027
END:VEVENT

END:VCALENDAR
