BEGIN:VCALENDAR
VERSION:2.0
PRODID:-//ChamberMaster//Event Calendar 2.0//EN
METHOD:PUBLISH
X-PUBLISHED-TTL:P3D
REFRESH-INTERVAL:P3D
CALSCALE:GREGORIAN
BEGIN:VEVENT
DTSTART:20120204T060000Z
DTEND:20120204T060000Z
X-MICROSOFT-CDO-ALLDAYEVENT:FALSE
SUMMARY:2012 FEB*38th ANNUAL GALA PRIZE TICKETS
DESCRIPTION:2012 FEB*38th ANNUAL GALA PRIZE TICKETS
X-ALT-DESC;FMTTYPE=text/html:2012 FEB*38th ANNUAL GALA PRIZE TICKETS
LOCATION:J W Marriott Hotel & Spa
UID:e.2020.4184
SEQUENCE:3
DTSTAMP:20260421T210255Z
URL:https://cm-dev.metrosa.com/events/details/2012-feb-38th-annual-gala-prize-tickets-02-04-2012-4184
END:VEVENT

END:VCALENDAR
