BEGIN:VCALENDAR
VERSION:2.0
PRODID:-//ChamberMaster//Event Calendar 2.0//EN
METHOD:PUBLISH
X-PUBLISHED-TTL:P3D
REFRESH-INTERVAL:P3D
CALSCALE:GREGORIAN
BEGIN:VEVENT
DTSTART:20120216T173000Z
DTEND:20120216T190000Z
X-MICROSOFT-CDO-ALLDAYEVENT:FALSE
SUMMARY:2012 Feb Ambassador Lunch
DESCRIPTION:Registration is now available on the web!   DATE/TIME:     Thursday February 16\, 2012   /  11:30 AM to 1:00 PM LOCATION:                            Courtyard San Antonio Northwest at the Rim 5731 Rim Pass DriveSan Antonio Tx 78257210-558-7775    Menu:   Entrée: Bistro Table Buffet: Garden Salad • Grilled Chicken Breast • Seasonal Vegetables • Roasted Potatoes • Fresh Artisan Breads •  Dessert: Assorted cookies  Beverage: Water\, iced tea and lemonade  PRICE:                      $16.00 all inclusive ~ Thank you!  RSVP'S:                     DEADLINE IS Monday –Feb 13\, 2012- NOON WITH PAYMENT FOR YOUR TEAM’S EXTRA 300 POINTS. Registration goes off website midnight Wednesday Feb 15\, 2012.                                      REGISTER ON LINE WITH CREDIT CARD AT www.northsachamber.com
X-ALT-DESC;FMTTYPE=text/html:<DIV><P style="MARGIN: 5pt 0in\; mso-layout-grid-align: none" class=MsoNormal><B><SPAN style="FONT-FAMILY: 'Times New Roman'\,'serif'\; COLOR: maroon\; FONT-SIZE: 12pt">Registration is now available on the web! <?xml:namespace prefix = o ns = "urn:schemas-microsoft-com:office:office" /><o:p></o:p></SPAN></B></P><P style="MARGIN: 0in 0in 0pt\; mso-layout-grid-align: none" class=MsoNormal><B><U><SPAN style="FONT-FAMILY: 'Times New Roman'\,'serif'\; FONT-SIZE: 12pt"><o:p><SPAN style="TEXT-DECORATION: none">&nbsp\;</SPAN></o:p></SPAN></U></B></P><P style="MARGIN: 0in 0in 0pt\; mso-layout-grid-align: none" class=MsoNormal><B><U><SPAN style="FONT-FAMILY: 'Times New Roman'\,'serif'\; FONT-SIZE: 12pt"><o:p><SPAN style="TEXT-DECORATION: none">&nbsp\;</SPAN></o:p></SPAN></U></B></P><P style="MARGIN: 0in 0in 0pt\; mso-layout-grid-align: none" class=MsoNormal><B><U><SPAN style="FONT-FAMILY: 'Times New Roman'\,'serif'\; FONT-SIZE: 12pt">DATE/TIME:</SPAN></U></B><B><SPAN style="FONT-FAMILY: 'Times New Roman'\,'serif'\; FONT-SIZE: 12pt"><SPAN style="mso-spacerun: yes">&nbsp\;&nbsp\;&nbsp\;&nbsp\; </SPAN><U>Thursday</U> February </SPAN></B><B><SPAN style="FONT-FAMILY: 'Verdana'\,'sans-serif'\; COLOR: black\; FONT-SIZE: 12pt\; mso-bidi-font-family: Verdana">16\, 2012<SPAN style="mso-spacerun: yes">&nbsp\;&nbsp\; </SPAN>/<SPAN style="mso-spacerun: yes">&nbsp\; </SPAN>11:30 AM to 1:00 PM</SPAN></B><B><SPAN style="FONT-FAMILY: 'Times New Roman'\,'serif'\; FONT-SIZE: 12pt"><o:p></o:p></SPAN></B></P><P style="MARGIN: 0in 0in 0pt\; mso-layout-grid-align: none" class=MsoNormal><B><U><SPAN style="FONT-FAMILY: 'Times New Roman'\,'serif'\; FONT-SIZE: 12pt"><o:p><SPAN style="TEXT-DECORATION: none">&nbsp\;</SPAN></o:p></SPAN></U></B></P><P style="TEXT-INDENT: -1.5in\; MARGIN: 5pt 0in 5pt 1.5in\; mso-layout-grid-align: none" class=MsoNormal><B><U><SPAN style="FONT-FAMILY: 'Times New Roman'\,'serif'\; FONT-SIZE: 12pt">LOCATION:</SPAN></U></B><B><SPAN style="FONT-FAMILY: 'Times New Roman'\,'serif'\; FONT-SIZE: 12pt"><SPAN style="mso-tab-count: 2">&nbsp\;&nbsp\;&nbsp\;&nbsp\;&nbsp\;&nbsp\;&nbsp\;&nbsp\;&nbsp\;&nbsp\;&nbsp\;&nbsp\;&nbsp\;&nbsp\;&nbsp\;&nbsp\;&nbsp\;&nbsp\;&nbsp\;&nbsp\;&nbsp\;&nbsp\;&nbsp\;&nbsp\; </SPAN><SPAN style="mso-spacerun: yes">&nbsp\;&nbsp\; </SPAN></SPAN></B><SPAN style="FONT-FAMILY: 'Times New Roman'\,'serif'\; FONT-SIZE: 12pt"><o:p></o:p></SPAN></P><DIV align=center><TABLE style="BORDER-COLLAPSE: collapse\; mso-table-layout-alt: fixed\; mso-padding-top-alt: 0in\; mso-padding-bottom-alt: 0in" class=MsoNormalTable border=0 cellSpacing=0 cellPadding=0><TBODY><TR style="mso-yfti-irow: 0\; mso-yfti-firstrow: yes"><TD style="BORDER-BOTTOM: #ece9d8\; BORDER-LEFT: #ece9d8\; PADDING-BOTTOM: 0in\; BACKGROUND-COLOR: transparent\; PADDING-LEFT: 0.75pt\; WIDTH: 329.8pt\; PADDING-RIGHT: 0.75pt\; BORDER-TOP: #ece9d8\; BORDER-RIGHT: #ece9d8\; PADDING-TOP: 0in" vAlign=top width=440><P style="MARGIN: 0in 0in 0pt\; mso-layout-grid-align: none" class=MsoNormal><SPAN style="FONT-FAMILY: 'Verdana'\,'sans-serif'\; COLOR: black\; FONT-SIZE: 12pt\; mso-bidi-font-family: Verdana">Courtyard San Antonio Northwest at the Rim </SPAN><SPAN style="FONT-FAMILY: 'Verdana'\,'sans-serif'\; FONT-SIZE: 12pt\; mso-bidi-font-family: Verdana"><o:p></o:p></SPAN></P></TD></TR><TR style="mso-yfti-irow: 1"><TD style="BORDER-BOTTOM: #ece9d8\; BORDER-LEFT: #ece9d8\; PADDING-BOTTOM: 0in\; BACKGROUND-COLOR: transparent\; PADDING-LEFT: 0.75pt\; WIDTH: 329.8pt\; PADDING-RIGHT: 0.75pt\; BORDER-TOP: #ece9d8\; BORDER-RIGHT: #ece9d8\; PADDING-TOP: 0in" vAlign=top width=440><P style="MARGIN: 0in 0in 0pt\; mso-layout-grid-align: none" class=MsoNormal><SPAN style="FONT-FAMILY: 'Verdana'\,'sans-serif'\; COLOR: black\; FONT-SIZE: 12pt\; mso-bidi-font-family: Verdana">5731 Rim Pass Drive</SPAN><SPAN style="FONT-FAMILY: 'Verdana'\,'sans-serif'\; FONT-SIZE: 12pt\; mso-bidi-font-family: Verdana"><o:p></o:p></SPAN></P></TD></TR><TR style="mso-yfti-irow: 2"><TD style="BORDER-BOTTOM: #ece9d8\; BORDER-LEFT: #ece9d8\; PADDING-BOTTOM: 0in\; BACKGROUND-COLOR: transparent\; PADDING-LEFT: 0.75pt\; WIDTH: 329.8pt\; PADDING-RIGHT: 0.75pt\; BORDER-TOP: #ece9d8\; BORDER-RIGHT: #ece9d8\; PADDING-TOP: 0in" vAlign=top width=440><P style="MARGIN: 0in 0in 0pt\; mso-layout-grid-align: none" class=MsoNormal><SPAN style="FONT-FAMILY: 'Verdana'\,'sans-serif'\; COLOR: black\; FONT-SIZE: 12pt\; mso-bidi-font-family: Verdana">San Antonio Tx 78257</SPAN><SPAN style="FONT-FAMILY: 'Verdana'\,'sans-serif'\; FONT-SIZE: 12pt\; mso-bidi-font-family: Verdana"><o:p></o:p></SPAN></P></TD></TR><TR style="mso-yfti-irow: 3\; mso-yfti-lastrow: yes"><TD style="BORDER-BOTTOM: #ece9d8\; BORDER-LEFT: #ece9d8\; PADDING-BOTTOM: 0in\; BACKGROUND-COLOR: transparent\; PADDING-LEFT: 0.75pt\; WIDTH: 329.8pt\; PADDING-RIGHT: 0.75pt\; BORDER-TOP: #ece9d8\; BORDER-RIGHT: #ece9d8\; PADDING-TOP: 0in" vAlign=top width=440><P style="MARGIN: 0in 0in 0pt\; mso-layout-grid-align: none" class=MsoNormal><SPAN style="FONT-FAMILY: 'Arial'\,'sans-serif'\; FONT-SIZE: 12pt">210-558-7775<o:p></o:p></SPAN></P></TD></TR></TBODY></TABLE></DIV><P style="TEXT-INDENT: -1.5in\; MARGIN: 5pt 0in 5pt 1.5in\; mso-layout-grid-align: none" class=MsoNormal><B><SPAN style="FONT-FAMILY: 'Times New Roman'\,'serif'\; FONT-SIZE: 12pt"><SPAN style="mso-spacerun: yes">&nbsp\;&nbsp\; </SPAN><o:p></o:p></SPAN></B></P><P style="TEXT-INDENT: -1.5in\; MARGIN: 5pt 0in 5pt 1.5in\; mso-layout-grid-align: none" class=MsoNormal><B><SPAN style="FONT-FAMILY: 'Times New Roman'\,'serif'\; FONT-SIZE: 12pt"><o:p>&nbsp\;</o:p></SPAN></B></P><P style="LINE-HEIGHT: 16pt\; MARGIN: 0in 0in 0pt\; mso-layout-grid-align: none" class=MsoNormal><B><U><SPAN style="FONT-FAMILY: 'Times New Roman'\,'serif'\; FONT-SIZE: 12pt">Menu:</SPAN></U></B><B><SPAN style="FONT-FAMILY: 'Times New Roman'\,'serif'\; FONT-SIZE: 12pt"><SPAN style="mso-tab-count: 1"> </SPAN><o:p></o:p></SPAN></B></P><P style="LINE-HEIGHT: 16pt\; MARGIN: 0in 0in 0pt\; mso-layout-grid-align: none" class=MsoNormal><B><SPAN style="FONT-FAMILY: 'Arial'\,'sans-serif'\; COLOR: black\; FONT-SIZE: 12pt"><o:p>&nbsp\;</o:p></SPAN></B></P><P style="LINE-HEIGHT: 16pt\; MARGIN: 0in 0in 0pt\; mso-layout-grid-align: none" class=MsoNormal><SPAN style="FONT-FAMILY: 'Arial'\,'sans-serif'\; COLOR: black\; FONT-SIZE: 12pt"><o:p>&nbsp\;</o:p></SPAN></P><P style="PAGE-BREAK-AFTER: avoid\; MARGIN: 5pt 0in\; mso-layout-grid-align: none" class=MsoNormal><B><SPAN style="FONT-FAMILY: 'Arial'\,'sans-serif'\; COLOR: black\; FONT-SIZE: 12pt">Entrée: Bistro Table&nbsp\;Buffet:</SPAN></B><SPAN style="FONT-FAMILY: 'Arial'\,'sans-serif'\; FONT-SIZE: 12pt"> Garden Salad • Grilled Chicken Breast • Seasonal Vegetables • Roasted Potatoes • Fresh Artisan Breads • <o:p></o:p></SPAN></P><P style="PAGE-BREAK-AFTER: avoid\; MARGIN: 5pt 0in\; mso-layout-grid-align: none" class=MsoNormal><SPAN style="FONT-FAMILY: 'Arial'\,'sans-serif'\; FONT-SIZE: 12pt"><o:p>&nbsp\;</o:p></SPAN></P><P style="LINE-HEIGHT: 150%\; MARGIN: 0in 0in 0pt\; mso-layout-grid-align: none" class=MsoNormal><B><SPAN style="LINE-HEIGHT: 150%\; FONT-FAMILY: 'Arial'\,'sans-serif'\; COLOR: black\; FONT-SIZE: 12pt">Dessert: </SPAN></B><SPAN style="LINE-HEIGHT: 150%\; FONT-FAMILY: 'Arial'\,'sans-serif'\; COLOR: black\; FONT-SIZE: 12pt">Assorted cookies <B><I><o:p></o:p></I></B></SPAN></P><P style="LINE-HEIGHT: 150%\; MARGIN: 0in 0in 0pt\; mso-layout-grid-align: none" class=MsoNormal><B><I><SPAN style="LINE-HEIGHT: 150%\; FONT-FAMILY: 'Arial'\,'sans-serif'\; COLOR: black\; FONT-SIZE: 12pt"><o:p>&nbsp\;</o:p></SPAN></I></B></P><P style="LINE-HEIGHT: 150%\; MARGIN: 0in 0in 0pt\; mso-layout-grid-align: none" class=MsoNormal><B><SPAN style="LINE-HEIGHT: 150%\; FONT-FAMILY: 'Arial'\,'sans-serif'\; COLOR: black\; FONT-SIZE: 12pt">Beverage</SPAN></B><SPAN style="LINE-HEIGHT: 150%\; FONT-FAMILY: 'Arial'\,'sans-serif'\; COLOR: black\; FONT-SIZE: 12pt">: Water\, iced tea and lemonade<o:p></o:p></SPAN></P><P style="LINE-HEIGHT: 150%\; MARGIN: 0in 0in 0pt\; mso-layout-grid-align: none" class=MsoNormal><SPAN style="LINE-HEIGHT: 150%\; FONT-FAMILY: 'Arial'\,'sans-serif'\; COLOR: black\; FONT-SIZE: 12pt"><o:p>&nbsp\;</o:p></SPAN></P><P style="TEXT-INDENT: -1.5in\; MARGIN: 5pt 0in 5pt 1.5in\; mso-layout-grid-align: none" class=MsoNormal><B><SPAN style="FONT-FAMILY: 'Times New Roman'\,'serif'\; FONT-SIZE: 12pt"><o:p>&nbsp\;</o:p></SPAN></B></P><P style="MARGIN: 0in 0in 0pt\; mso-layout-grid-align: none" class=MsoNormal><B><U><SPAN style="FONT-FAMILY: 'Times New Roman'\,'serif'\; FONT-SIZE: 12pt">PRICE:</SPAN></U></B><B><SPAN style="FONT-FAMILY: 'Times New Roman'\,'serif'\; FONT-SIZE: 12pt"><SPAN style="mso-tab-count: 2">&nbsp\;&nbsp\;&nbsp\;&nbsp\;&nbsp\;&nbsp\;&nbsp\;&nbsp\;&nbsp\;&nbsp\;&nbsp\;&nbsp\;&nbsp\;&nbsp\;&nbsp\;&nbsp\;&nbsp\;&nbsp\;&nbsp\;&nbsp\;&nbsp\; </SPAN><SPAN style="COLOR: red">$16.00 all inclusive ~ Thank you! </SPAN><o:p></o:p></SPAN></B></P><P style="TEXT-INDENT: -1.5in\; MARGIN: 0in 0in 0pt 1.5in\; mso-layout-grid-align: none" class=MsoNormal><B><SPAN style="FONT-FAMILY: 'Times New Roman'\,'serif'\; FONT-SIZE: 12pt"><o:p>&nbsp\;</o:p></SPAN></B></P><P style="TEXT-INDENT: -1.5in\; MARGIN: 0in 0in 0pt 1.5in\; mso-layout-grid-align: none" class=MsoNormal><B><U><SPAN style="FONT-FAMILY: 'Times New Roman'\,'serif'\; FONT-SIZE: 12pt">RSVP'S:</SPAN></U></B><B><SPAN style="FONT-FAMILY: 'Times New Roman'\,'serif'\; FONT-SIZE: 12pt"><SPAN style="mso-tab-count: 1">&nbsp\;&nbsp\;&nbsp\;&nbsp\;&nbsp\;&nbsp\;&nbsp\;&nbsp\;&nbsp\;&nbsp\;&nbsp\;&nbsp\;&nbsp\;&nbsp\;&nbsp\;&nbsp\;&nbsp\;&nbsp\;&nbsp\;&nbsp\; </SPAN><U><SPAN style="COLOR: blue">DEADLINE IS Monday –Feb 13\, 2012- NOON WITH PAYMENT FOR YOUR TEAM’S EXTRA 300 POINTS.</SPAN><SPAN style="COLOR: #993300"> <o:p></o:p></SPAN></U></SPAN></B></P><P style="MARGIN: 0in 0in 0pt 1.5in\; mso-layout-grid-align: none" class=MsoNormal><B><U><SPAN style="FONT-FAMILY: 'Times New Roman'\,'serif'\; COLOR: #c00000\; FONT-SIZE: 12pt">Registration goes off website midnight Wednesday Feb 15\, 2012. <o:p></o:p></SPAN></U></B></P><P style="MARGIN: 0in 0in 0pt 1.5in\; mso-layout-grid-align: none" class=MsoNormal><B><U><SPAN style="FONT-FAMILY: 'Times New Roman'\,'serif'\; FONT-SIZE: 12pt"><o:p><SPAN style="TEXT-DECORATION: none">&nbsp\;</SPAN></o:p></SPAN></U></B></P><P style="MARGIN: 0in 0in 0pt\; mso-layout-grid-align: none" class=MsoNormal><B><SPAN style="FONT-FAMILY: 'Times New Roman'\,'serif'\; COLOR: #c00000\; FONT-SIZE: 12pt"><SPAN style="mso-spacerun: yes">&nbsp\;&nbsp\;&nbsp\;&nbsp\;&nbsp\;&nbsp\;&nbsp\;&nbsp\;&nbsp\;&nbsp\;&nbsp\;&nbsp\;&nbsp\;&nbsp\;&nbsp\;&nbsp\;&nbsp\;&nbsp\;&nbsp\;&nbsp\;&nbsp\;&nbsp\;&nbsp\;&nbsp\;&nbsp\;&nbsp\;&nbsp\;&nbsp\;&nbsp\;&nbsp\;&nbsp\;&nbsp\;&nbsp\;&nbsp\;&nbsp\; </SPAN>REGISTER ON LINE WITH CREDIT CARD AT</SPAN></B><B><SPAN style="FONT-FAMILY: 'Times New Roman'\,'serif'\; COLOR: red\; FONT-SIZE: 12pt"> <A href="http://www.northsachamber.com/"><SPAN style="COLOR: blue">www.northsachamber.com</SPAN></A></SPAN></B><B><SPAN style="FONT-FAMILY: 'Times New Roman'\,'serif'\; COLOR: red\; FONT-SIZE: 14pt"><o:p></o:p></SPAN></B></P><P style="MARGIN: 0in 0in 0pt\; mso-layout-grid-align: none" class=MsoNormal><SPAN style="COLOR: black\; FONT-SIZE: 12pt\; mso-bidi-font-family: Calibri"><o:p><FONT face=Calibri>&nbsp\;</FONT></o:p></SPAN></P><P style="TEXT-INDENT: -1.5in\; MARGIN: 5pt 0in 5pt 1.5in\; mso-layout-grid-align: none" class=MsoNormal><B><SPAN style="FONT-FAMILY: 'Times New Roman'\,'serif'\; FONT-SIZE: 12pt"><SPAN style="mso-spacerun: yes">&nbsp\;&nbsp\; </SPAN></SPAN></B><SPAN style="COLOR: black\; FONT-SIZE: 12pt\; mso-bidi-font-family: Calibri"><o:p></o:p></SPAN></P><P style="MARGIN: 0in 0in 0pt" class=MsoNormal><SPAN style="COLOR: black\; FONT-SIZE: 12pt\; mso-bidi-font-family: Calibri"><o:p><FONT face=Calibri>&nbsp\;</FONT></o:p></SPAN></P></DIV>
LOCATION:Courtyard Marriott SA NW_Rim
UID:e.2020.984
SEQUENCE:3
DTSTAMP:20260421T210121Z
URL:https://cm-dev.metrosa.com/events/details/2012-feb-ambassador-lunch-02-16-2012-984
END:VEVENT

END:VCALENDAR
