BEGIN:VCALENDAR
VERSION:2.0
PRODID:-//ChamberMaster//Event Calendar 2.0//EN
METHOD:PUBLISH
X-PUBLISHED-TTL:P3D
REFRESH-INTERVAL:P3D
CALSCALE:GREGORIAN
BEGIN:VEVENT
DTSTART:20120223T131500Z
DTEND:20120223T150000Z
X-MICROSOFT-CDO-ALLDAYEVENT:FALSE
SUMMARY:2012 Feb CIO Breakfast
DESCRIPTION:DO YOU NEED AN IT STRATEGY TEAM?\nWhat would you\, should you do if you had one?Panelists:\nDoug Skiba\, Frost\nRoy Lane\, Tesoro\nMark Feeney\, Whataburger\nModerator:  Paul Peters\, Tesoro
X-ALT-DESC;FMTTYPE=text/html:<P>DO YOU NEED AN IT STRATEGY TEAM?<BR>What would you\, should you do if you had one?</P><P>Panelists:<BR>Doug Skiba\, Frost<BR>Roy Lane\, Tesoro<BR>Mark Feeney\, Whataburger<BR></P><P>Moderator:&nbsp\; Paul Peters\, Tesoro</P>
LOCATION:Petroleum Club of San Antonio
UID:e.2020.968
SEQUENCE:3
DTSTAMP:20260421T210024Z
URL:https://cm-dev.metrosa.com/events/details/2012-feb-cio-breakfast-02-23-2012-968
END:VEVENT

END:VCALENDAR
