BEGIN:VCALENDAR
VERSION:2.0
PRODID:-//ChamberMaster//Event Calendar 2.0//EN
METHOD:PUBLISH
X-PUBLISHED-TTL:P3D
REFRESH-INTERVAL:P3D
CALSCALE:GREGORIAN
BEGIN:VEVENT
DTSTART:20120320T050000Z
DTEND:20120320T050000Z
X-MICROSOFT-CDO-ALLDAYEVENT:FALSE
SUMMARY:2012 FEB*Extra Gala Rooms
DESCRIPTION:
X-ALT-DESC;FMTTYPE=text/html:
LOCATION:JW Marriott Hotel & Spa
UID:e.2020.993
SEQUENCE:3
DTSTAMP:20260421T192420Z
URL:https://cm-dev.metrosa.com/events/details/2012-feb-extra-gala-rooms-03-20-2012-993
END:VEVENT

END:VCALENDAR
