BEGIN:VCALENDAR
VERSION:2.0
PRODID:-//ChamberMaster//Event Calendar 2.0//EN
METHOD:PUBLISH
X-PUBLISHED-TTL:P3D
REFRESH-INTERVAL:P3D
CALSCALE:GREGORIAN
BEGIN:VEVENT
DTSTART:20120215T133000Z
DTEND:20120215T150000Z
X-MICROSOFT-CDO-ALLDAYEVENT:FALSE
SUMMARY:2012 FEB*Leadership Lab Kick-off Breakfast
DESCRIPTION:
X-ALT-DESC;FMTTYPE=text/html:
LOCATION:The Petroleum Club
UID:e.2020.985
SEQUENCE:3
DTSTAMP:20260421T210127Z
URL:https://cm-dev.metrosa.com/events/details/2012-feb-leadership-lab-kick-off-breakfast-02-15-2012-985
END:VEVENT

END:VCALENDAR
