BEGIN:VCALENDAR
VERSION:2.0
PRODID:-//ChamberMaster//Event Calendar 2.0//EN
METHOD:PUBLISH
X-PUBLISHED-TTL:P3D
REFRESH-INTERVAL:P3D
CALSCALE:GREGORIAN
BEGIN:VEVENT
DTSTART:20120126T131500Z
DTEND:20120126T150000Z
X-MICROSOFT-CDO-ALLDAYEVENT:FALSE
SUMMARY:2012 Jan CIO Breakfast-CRM
DESCRIPTION:Presenter:  Todd Renaud\, SSFCUTopic:  CRMCRM was supposed to be the panacea for customer service. It's 10 years later - did it work? What is happening now with CRM and what should you do about it?
X-ALT-DESC;FMTTYPE=text/html:<P>Presenter:&nbsp\; Todd Renaud\, SSFCU</P><P>Topic:&nbsp\; CRM</P><P>CRM was supposed to be the panacea for customer service. It's 10 years later - did it work? What is happening now with CRM and what should you do about it?</P>
LOCATION:Petroleum Club of San Antonio
UID:e.2020.967
SEQUENCE:3
DTSTAMP:20260421T223603Z
URL:https://cm-dev.metrosa.com/events/details/2012-jan-cio-breakfast-crm-01-26-2012-967
END:VEVENT

END:VCALENDAR
