BEGIN:VCALENDAR
VERSION:2.0
PRODID:-//ChamberMaster//Event Calendar 2.0//EN
METHOD:PUBLISH
X-PUBLISHED-TTL:P3D
REFRESH-INTERVAL:P3D
CALSCALE:GREGORIAN
BEGIN:VEVENT
DTSTART:20120119T173000Z
DTEND:20120119T190000Z
X-MICROSOFT-CDO-ALLDAYEVENT:FALSE
SUMMARY:2012 January Ambassador Lunch Meeting
DESCRIPTION:Ambassador Team Luncheon ~   DATE/TIME             Thursday January 19\, 2012   /  11:30 AM to 1:00 PM LOCATION:                            Crowne Plaza San Antonio Airport1111 NE Loop 410San Antonio Tx 78209210-828-9031   Menu:   Entrée: Citrus Grilled Chicken - Plated Lunch: Fresh garden salad and dressing •Tender Breast of Chicken with light Cream Sauce • Rice Pilaf • Seasonal Vegetables • Rolls and butter •  Includes * Chef's Choice DessertBeverage: Water\, tea and freshly brewed coffee and Decaf  PRICE:                      $17.00 all inclusive ~ Thank you!  RSVP'S:                     DEADLINE IS Monday –Jan 16\, 2012- NOON WITH PAYMENT FOR YOUR TEAM’S EXTRA 300 POINTS. Registration goes off website midnight Wednesday Jan 18\, 2012.                                      REGISTER ON LINE WITH CREDIT CARD AT www.northsachamber.com
X-ALT-DESC;FMTTYPE=text/html:<DIV><P style="MARGIN: 5pt 0in\; mso-layout-grid-align: none" class=MsoNormal><B><SPAN style="FONT-FAMILY: 'Times New Roman'\,'serif'\; COLOR: maroon\; FONT-SIZE: 12pt">Ambassador Team Luncheon ~ &nbsp\;<?xml:namespace prefix = o ns = "urn:schemas-microsoft-com:office:office" /><o:p></o:p></SPAN></B></P><P style="MARGIN: 0in 0in 0pt\; mso-layout-grid-align: none" class=MsoNormal><B><U><SPAN style="FONT-FAMILY: 'Times New Roman'\,'serif'\; FONT-SIZE: 12pt"><o:p><SPAN style="TEXT-DECORATION: none">&nbsp\;</SPAN></o:p></SPAN></U></B></P><P style="MARGIN: 0in 0in 0pt\; mso-layout-grid-align: none" class=MsoNormal><B><U><SPAN style="FONT-FAMILY: 'Times New Roman'\,'serif'\; FONT-SIZE: 12pt">DATE/TIME </SPAN></U></B><B><SPAN style="FONT-FAMILY: 'Times New Roman'\,'serif'\; FONT-SIZE: 12pt"><SPAN style="mso-tab-count: 1">&nbsp\;&nbsp\;&nbsp\;&nbsp\;&nbsp\;&nbsp\;&nbsp\;&nbsp\;&nbsp\;&nbsp\;&nbsp\; </SPAN><FONT face=Verdana>Thursday January</FONT> </SPAN></B><B><SPAN style="FONT-FAMILY: 'Verdana'\,'sans-serif'\; COLOR: black\; FONT-SIZE: 12pt\; mso-bidi-font-family: Verdana">19\, 2012<SPAN style="mso-spacerun: yes">&nbsp\;&nbsp\; </SPAN>/<SPAN style="mso-spacerun: yes">&nbsp\; </SPAN>11:30 AM to 1:00 PM</SPAN></B><B><SPAN style="FONT-FAMILY: 'Times New Roman'\,'serif'\; FONT-SIZE: 12pt"><o:p></o:p></SPAN></B></P><P style="MARGIN: 0in 0in 0pt\; mso-layout-grid-align: none" class=MsoNormal><B><U><SPAN style="FONT-FAMILY: 'Times New Roman'\,'serif'\; FONT-SIZE: 12pt"><o:p><SPAN style="TEXT-DECORATION: none">&nbsp\;</SPAN></o:p></SPAN></U></B></P><P style="TEXT-INDENT: -1.5in\; MARGIN: 5pt 0in 5pt 1.5in\; mso-layout-grid-align: none" class=MsoNormal><B><U><SPAN style="FONT-FAMILY: 'Times New Roman'\,'serif'\; FONT-SIZE: 12pt">LOCATION:</SPAN></U></B><B><SPAN style="FONT-FAMILY: 'Times New Roman'\,'serif'\; FONT-SIZE: 12pt"><SPAN style="mso-tab-count: 2">&nbsp\;&nbsp\;&nbsp\;&nbsp\;&nbsp\;&nbsp\;&nbsp\;&nbsp\;&nbsp\;&nbsp\;&nbsp\;&nbsp\;&nbsp\;&nbsp\;&nbsp\;&nbsp\;&nbsp\;&nbsp\;&nbsp\;&nbsp\;&nbsp\;&nbsp\;&nbsp\;&nbsp\; </SPAN><SPAN style="mso-spacerun: yes">&nbsp\;&nbsp\; </SPAN></SPAN></B><SPAN style="FONT-FAMILY: 'Times New Roman'\,'serif'\; FONT-SIZE: 12pt"><o:p></o:p></SPAN></P><DIV align=center><TABLE style="BORDER-COLLAPSE: collapse\; mso-table-layout-alt: fixed\; mso-padding-top-alt: 0in\; mso-padding-bottom-alt: 0in" class=MsoNormalTable border=0 cellSpacing=0 cellPadding=0><TBODY><TR style="mso-yfti-irow: 0\; mso-yfti-firstrow: yes"><TD style="BORDER-BOTTOM: #ece9d8\; BORDER-LEFT: #ece9d8\; PADDING-BOTTOM: 0in\; BACKGROUND-COLOR: transparent\; PADDING-LEFT: 0.75pt\; WIDTH: 329.8pt\; PADDING-RIGHT: 0.75pt\; BORDER-TOP: #ece9d8\; BORDER-RIGHT: #ece9d8\; PADDING-TOP: 0in" vAlign=top width=440><P style="MARGIN: 0in 0in 0pt\; mso-layout-grid-align: none" class=MsoNormal><SPAN style="FONT-FAMILY: 'Verdana'\,'sans-serif'\; COLOR: black\; FONT-SIZE: 12pt\; mso-bidi-font-family: Verdana">Crowne Plaza San Antonio Airport</SPAN><SPAN style="FONT-FAMILY: 'Verdana'\,'sans-serif'\; FONT-SIZE: 12pt\; mso-bidi-font-family: Verdana"><o:p></o:p></SPAN></P></TD></TR><TR style="mso-yfti-irow: 1"><TD style="BORDER-BOTTOM: #ece9d8\; BORDER-LEFT: #ece9d8\; PADDING-BOTTOM: 0in\; BACKGROUND-COLOR: transparent\; PADDING-LEFT: 0.75pt\; WIDTH: 329.8pt\; PADDING-RIGHT: 0.75pt\; BORDER-TOP: #ece9d8\; BORDER-RIGHT: #ece9d8\; PADDING-TOP: 0in" vAlign=top width=440><P style="MARGIN: 0in 0in 0pt\; mso-layout-grid-align: none" class=MsoNormal><SPAN style="FONT-FAMILY: 'Verdana'\,'sans-serif'\; COLOR: black\; FONT-SIZE: 12pt\; mso-bidi-font-family: Verdana">1111 NE Loop 410</SPAN><SPAN style="FONT-FAMILY: 'Verdana'\,'sans-serif'\; FONT-SIZE: 12pt\; mso-bidi-font-family: Verdana"><o:p></o:p></SPAN></P></TD></TR><TR style="mso-yfti-irow: 2"><TD style="BORDER-BOTTOM: #ece9d8\; BORDER-LEFT: #ece9d8\; PADDING-BOTTOM: 0in\; BACKGROUND-COLOR: transparent\; PADDING-LEFT: 0.75pt\; WIDTH: 329.8pt\; PADDING-RIGHT: 0.75pt\; BORDER-TOP: #ece9d8\; BORDER-RIGHT: #ece9d8\; PADDING-TOP: 0in" vAlign=top width=440><P style="MARGIN: 0in 0in 0pt\; mso-layout-grid-align: none" class=MsoNormal><SPAN style="FONT-FAMILY: 'Verdana'\,'sans-serif'\; COLOR: black\; FONT-SIZE: 12pt\; mso-bidi-font-family: Verdana">San Antonio Tx 78209</SPAN><SPAN style="FONT-FAMILY: 'Verdana'\,'sans-serif'\; FONT-SIZE: 12pt\; mso-bidi-font-family: Verdana"><o:p></o:p></SPAN></P></TD></TR><TR style="mso-yfti-irow: 3\; mso-yfti-lastrow: yes"><TD style="BORDER-BOTTOM: #ece9d8\; BORDER-LEFT: #ece9d8\; PADDING-BOTTOM: 0in\; BACKGROUND-COLOR: transparent\; PADDING-LEFT: 0.75pt\; WIDTH: 329.8pt\; PADDING-RIGHT: 0.75pt\; BORDER-TOP: #ece9d8\; BORDER-RIGHT: #ece9d8\; PADDING-TOP: 0in" vAlign=top width=440><P style="MARGIN: 0in 0in 0pt\; mso-layout-grid-align: none" class=MsoNormal><SPAN style="FONT-FAMILY: 'Arial'\,'sans-serif'\; FONT-SIZE: 12pt">210-828-9031<o:p></o:p></SPAN></P></TD></TR></TBODY></TABLE></DIV><P style="TEXT-INDENT: -1.5in\; MARGIN: 5pt 0in 5pt 1.5in\; mso-layout-grid-align: none" class=MsoNormal><B><SPAN style="FONT-FAMILY: 'Times New Roman'\,'serif'\; FONT-SIZE: 12pt"><SPAN style="mso-spacerun: yes">&nbsp\;&nbsp\; </SPAN><o:p></o:p></SPAN></B></P><P style="LINE-HEIGHT: 16pt\; MARGIN: 0in 0in 0pt\; mso-layout-grid-align: none" class=MsoNormal><B><U><SPAN style="FONT-FAMILY: 'Times New Roman'\,'serif'\; FONT-SIZE: 12pt">Menu:</SPAN></U></B><B><SPAN style="FONT-FAMILY: 'Times New Roman'\,'serif'\; FONT-SIZE: 12pt"><SPAN style="mso-tab-count: 1"> </SPAN><o:p></o:p></SPAN></B></P><P style="LINE-HEIGHT: 16pt\; MARGIN: 0in 0in 0pt\; mso-layout-grid-align: none" class=MsoNormal><B><SPAN style="FONT-FAMILY: 'Arial'\,'sans-serif'\; COLOR: black\; FONT-SIZE: 12pt"><o:p>&nbsp\;</o:p></SPAN></B></P><P style="LINE-HEIGHT: 16pt\; MARGIN: 0in 0in 0pt\; mso-layout-grid-align: none" class=MsoNormal><SPAN style="FONT-FAMILY: 'Arial'\,'sans-serif'\; COLOR: black\; FONT-SIZE: 12pt"><o:p>&nbsp\;</o:p></SPAN></P><P style="PAGE-BREAK-AFTER: avoid\; MARGIN: 5pt 0in\; mso-layout-grid-align: none" class=MsoNormal><B><SPAN style="FONT-FAMILY: 'Arial'\,'sans-serif'\; COLOR: black\; FONT-SIZE: 12pt">Entrée: Citrus Grilled Chicken - Plated Lunch:</SPAN></B><SPAN style="FONT-FAMILY: 'Arial'\,'sans-serif'\; FONT-SIZE: 12pt"> Fresh garden salad and dressing •Tender Breast of Chicken with light Cream Sauce • Rice Pilaf • Seasonal Vegetables • Rolls and butter •<SPAN style="mso-spacerun: yes">&nbsp\; </SPAN><o:p></o:p></SPAN></P><P style="LINE-HEIGHT: 150%\; MARGIN: 0in 0in 0pt\; mso-layout-grid-align: none" class=MsoNormal><SPAN style="LINE-HEIGHT: 150%\; FONT-FAMILY: 'Arial'\,'sans-serif'\; COLOR: black\; FONT-SIZE: 12pt">Includes * Chef's Choice Dessert<B><I><o:p></o:p></I></B></SPAN></P><P style="LINE-HEIGHT: 150%\; MARGIN: 0in 0in 0pt\; mso-layout-grid-align: none" class=MsoNormal><B><SPAN style="LINE-HEIGHT: 150%\; FONT-FAMILY: 'Arial'\,'sans-serif'\; COLOR: black\; FONT-SIZE: 12pt">Beverage</SPAN></B><SPAN style="LINE-HEIGHT: 150%\; FONT-FAMILY: 'Arial'\,'sans-serif'\; COLOR: black\; FONT-SIZE: 12pt">: Water\, tea and freshly brewed coffee and Decaf<o:p></o:p></SPAN></P><P style="LINE-HEIGHT: 150%\; MARGIN: 0in 0in 0pt\; mso-layout-grid-align: none" class=MsoNormal><SPAN style="LINE-HEIGHT: 150%\; FONT-FAMILY: 'Arial'\,'sans-serif'\; COLOR: black\; FONT-SIZE: 12pt"><o:p>&nbsp\;</o:p></SPAN></P><P style="TEXT-INDENT: -1.5in\; MARGIN: 5pt 0in 5pt 1.5in\; mso-layout-grid-align: none" class=MsoNormal><B><SPAN style="FONT-FAMILY: 'Times New Roman'\,'serif'\; FONT-SIZE: 12pt"><o:p>&nbsp\;</o:p></SPAN></B></P><P style="MARGIN: 0in 0in 0pt\; mso-layout-grid-align: none" class=MsoNormal><B><U><SPAN style="FONT-FAMILY: 'Times New Roman'\,'serif'\; FONT-SIZE: 12pt">PRICE:</SPAN></U></B><B><SPAN style="FONT-FAMILY: 'Times New Roman'\,'serif'\; FONT-SIZE: 12pt"><SPAN style="mso-tab-count: 2">&nbsp\;&nbsp\;&nbsp\;&nbsp\;&nbsp\;&nbsp\;&nbsp\;&nbsp\;&nbsp\;&nbsp\;&nbsp\;&nbsp\;&nbsp\;&nbsp\;&nbsp\;&nbsp\;&nbsp\;&nbsp\;&nbsp\;&nbsp\;&nbsp\; </SPAN><SPAN style="COLOR: red">$17.00 all inclusive ~ Thank you! </SPAN><o:p></o:p></SPAN></B></P><P style="TEXT-INDENT: -1.5in\; MARGIN: 0in 0in 0pt 1.5in\; mso-layout-grid-align: none" class=MsoNormal><B><SPAN style="FONT-FAMILY: 'Times New Roman'\,'serif'\; FONT-SIZE: 12pt"><o:p>&nbsp\;</o:p></SPAN></B></P><P style="TEXT-INDENT: -1.5in\; MARGIN: 0in 0in 0pt 1.5in\; mso-layout-grid-align: none" class=MsoNormal><B><U><SPAN style="FONT-FAMILY: 'Times New Roman'\,'serif'\; FONT-SIZE: 12pt">RSVP'S:</SPAN></U></B><B><SPAN style="FONT-FAMILY: 'Times New Roman'\,'serif'\; FONT-SIZE: 12pt"><SPAN style="mso-tab-count: 1">&nbsp\;&nbsp\;&nbsp\;&nbsp\;&nbsp\;&nbsp\;&nbsp\;&nbsp\;&nbsp\;&nbsp\;&nbsp\;&nbsp\;&nbsp\;&nbsp\;&nbsp\;&nbsp\;&nbsp\;&nbsp\;&nbsp\;&nbsp\; </SPAN><U><SPAN style="COLOR: blue">DEADLINE IS Monday –Jan 16\, 2012- NOON WITH PAYMENT FOR YOUR TEAM’S EXTRA 300 POINTS.</SPAN><SPAN style="COLOR: #993300"> <o:p></o:p></SPAN></U></SPAN></B></P><P style="MARGIN: 0in 0in 0pt 1.5in\; mso-layout-grid-align: none" class=MsoNormal><B><U><SPAN style="FONT-FAMILY: 'Times New Roman'\,'serif'\; COLOR: #c00000\; FONT-SIZE: 12pt">Registration goes off website midnight Wednesday Jan 18\, 2012. <o:p></o:p></SPAN></U></B></P><P style="MARGIN: 0in 0in 0pt 1.5in\; mso-layout-grid-align: none" class=MsoNormal><B><U><SPAN style="FONT-FAMILY: 'Times New Roman'\,'serif'\; FONT-SIZE: 12pt"><o:p><SPAN style="TEXT-DECORATION: none">&nbsp\;</SPAN></o:p></SPAN></U></B></P><P style="MARGIN: 0in 0in 0pt\; mso-layout-grid-align: none" class=MsoNormal><B><SPAN style="FONT-FAMILY: 'Times New Roman'\,'serif'\; COLOR: #c00000\; FONT-SIZE: 12pt"><SPAN style="mso-spacerun: yes">&nbsp\;&nbsp\;&nbsp\;&nbsp\;&nbsp\;&nbsp\;&nbsp\;&nbsp\;&nbsp\;&nbsp\;&nbsp\;&nbsp\;&nbsp\;&nbsp\;&nbsp\;&nbsp\;&nbsp\;&nbsp\;&nbsp\;&nbsp\;&nbsp\;&nbsp\;&nbsp\;&nbsp\;&nbsp\;&nbsp\;&nbsp\;&nbsp\;&nbsp\;&nbsp\;&nbsp\;&nbsp\;&nbsp\;&nbsp\;&nbsp\; </SPAN>REGISTER ON LINE WITH CREDIT CARD AT</SPAN></B><B><SPAN style="FONT-FAMILY: 'Times New Roman'\,'serif'\; COLOR: red\; FONT-SIZE: 12pt"> <A href="http://www.northsachamber.com/"><SPAN style="COLOR: blue">www.northsachamber.com</SPAN></A></SPAN></B><B><SPAN style="FONT-FAMILY: 'Times New Roman'\,'serif'\; COLOR: red\; FONT-SIZE: 14pt"><o:p></o:p></SPAN></B></P><P style="MARGIN: 0in 0in 0pt\; mso-layout-grid-align: none" class=MsoNormal><B><SPAN style="FONT-FAMILY: 'Times New Roman'\,'serif'\; COLOR: red\; FONT-SIZE: 14pt"><o:p>&nbsp\;</o:p></SPAN></B></P><P style="MARGIN: 0in 0in 0pt" class=MsoNormal><SPAN style="COLOR: black\; FONT-SIZE: 12pt\; mso-bidi-font-family: Calibri"><o:p><FONT face=Calibri>&nbsp\;</FONT></o:p></SPAN></P></DIV>
LOCATION:Crown Plaza Airport
UID:e.2020.969
SEQUENCE:3
DTSTAMP:20260421T223928Z
URL:https://cm-dev.metrosa.com/events/details/2012-january-ambassador-lunch-meeting-01-19-2012-969
END:VEVENT

END:VCALENDAR
