BEGIN:VCALENDAR
VERSION:2.0
PRODID:-//ChamberMaster//Event Calendar 2.0//EN
METHOD:PUBLISH
X-PUBLISHED-TTL:P3D
REFRESH-INTERVAL:P3D
CALSCALE:GREGORIAN
BEGIN:VEVENT
DTSTART:20120726T121500Z
DTEND:20120726T140000Z
X-MICROSOFT-CDO-ALLDAYEVENT:FALSE
SUMMARY:2012 July CIO Breakfast
DESCRIPTION:“Leading Yourself to Success….and You Really Can Have It All”Moderator Janelle Monney will present and lead an interactive discussion on qualities of successful IT leadersWhat is the most powerful tool available to you today? Your mobile device? Tablet? Maybe your network?   In actuality\, the most powerful tool is no different than it always has been….it is your brain.Performance begins inside the head. So does happiness. And it is not about “the secret” or the “power of positive thinking.” It is a frank discussion about evidence-based techniques designed to help you face reality\, get results and create your best life. And…you really can have it all. You just have to be willing to work on it. After all…you are your own boss…even if you are not self-employed. You manage your priorities\, your time\, your career\, your choices\, your energy\, how you talk to yourself\, the people with whom you associate and how you take care of yourself. Chances are…you aren’t doing as well at it as you would like.   Yet can you think of a more important and impactful thing to do?As part of this interactive discussion\, attendees will be encouraged to share their own thoughts on career achievements and considerations toward continued success.
X-ALT-DESC;FMTTYPE=text/html:<P style="MARGIN: 3.75pt 0in" class=MsoNormal><SPAN style="COLOR: black\; FONT-SIZE: 9pt">“Leading Yourself to Success….and You Really Can Have It All”<?xml:namespace prefix = o ns = "urn:schemas-microsoft-com:office:office" /><o:p></o:p></SPAN></P><P style="MARGIN: 3.75pt 0in" class=MsoNormal><SPAN style="COLOR: black\; FONT-SIZE: 9pt">Moderator Janelle Monney will present and lead an interactive discussion on qualities of successful IT leaders<o:p></o:p></SPAN></P><P style="MARGIN: 3.75pt 0in" class=MsoNormal><SPAN style="COLOR: black\; FONT-SIZE: 9pt">What is the most powerful tool available to you today? Your mobile device? Tablet? Maybe your network?&nbsp\;&nbsp\; In actuality\, the most powerful tool is no different than it always has been….it is your brain.<o:p></o:p></SPAN></P><P style="MARGIN: 3.75pt 0in" class=MsoNormal><SPAN style="COLOR: black\; FONT-SIZE: 9pt">Performance begins inside the head. So does happiness. And it is not about “the secret” or the “power of positive thinking.” It is a frank discussion about evidence-based techniques designed to help you face reality\, get results and create your best life. And…you really can have it all. You just have to be willing to work on it. After all…you are your own boss…even if you are not self-employed. You manage your priorities\, your time\, your career\, your choices\, your energy\, how you talk to yourself\, the people with whom you associate and how you take care of yourself. Chances are…you aren’t doing as well at it as you would like.&nbsp\;&nbsp\; Yet can you think of a more important and impactful thing to do?<o:p></o:p></SPAN></P><P><SPAN style="FONT-FAMILY: 'Times New Roman'\,'serif'\; COLOR: black\; FONT-SIZE: 9pt\; mso-fareast-font-family: Calibri\; mso-fareast-theme-font: minor-latin\; mso-ansi-language: EN-US\; mso-fareast-language: EN-US\; mso-bidi-language: AR-SA">As part of this interactive discussion\, attendees will be encouraged to share their own thoughts on career achievements&nbsp\;and considerations toward continued success.</SPAN></P>
LOCATION:Petroleum Club of San Antonio
UID:e.2020.978
SEQUENCE:3
DTSTAMP:20260421T135426Z
URL:https://cm-dev.metrosa.com/events/details/2012-july-cio-breakfast-07-26-2012-978
END:VEVENT

END:VCALENDAR
