BEGIN:VCALENDAR
VERSION:2.0
PRODID:-//ChamberMaster//Event Calendar 2.0//EN
METHOD:PUBLISH
X-PUBLISHED-TTL:P3D
REFRESH-INTERVAL:P3D
CALSCALE:GREGORIAN
BEGIN:VEVENT
DTSTART:20120711T050000Z
DTEND:20120711T050000Z
X-MICROSOFT-CDO-ALLDAYEVENT:FALSE
SUMMARY:2012 JULY*Throwdown Event
DESCRIPTION:2012 JULY*Throwdown Event
X-ALT-DESC;FMTTYPE=text/html:2012 JULY*Throwdown Event
LOCATION:TYCOON FLATS
UID:e.2020.2644
SEQUENCE:3
DTSTAMP:20260421T134955Z
URL:https://cm-dev.metrosa.com/events/details/2012-july-throwdown-event-07-11-2012-2644
END:VEVENT

END:VCALENDAR
