BEGIN:VCALENDAR
VERSION:2.0
PRODID:-//ChamberMaster//Event Calendar 2.0//EN
METHOD:PUBLISH
X-PUBLISHED-TTL:P3D
REFRESH-INTERVAL:P3D
CALSCALE:GREGORIAN
BEGIN:VEVENT
DTSTART:20120622T050000Z
DTEND:20120622T050000Z
X-MICROSOFT-CDO-ALLDAYEVENT:FALSE
SUMMARY:2012 June*Chairman's Council Breakfast
DESCRIPTION:2012 June*Chairman's Council Breakfast
X-ALT-DESC;FMTTYPE=text/html:2012 June*Chairman&#39\;s Council Breakfast
LOCATION:Petroleum Club
UID:e.2020.2632
SEQUENCE:3
DTSTAMP:20260421T153156Z
URL:https://cm-dev.metrosa.com/events/details/2012-june-chairman-s-council-breakfast-06-22-2012-2632
END:VEVENT

END:VCALENDAR
