BEGIN:VCALENDAR
VERSION:2.0
PRODID:-//ChamberMaster//Event Calendar 2.0//EN
METHOD:PUBLISH
X-PUBLISHED-TTL:P3D
REFRESH-INTERVAL:P3D
CALSCALE:GREGORIAN
BEGIN:VEVENT
DTSTART:20120628T121500Z
DTEND:20120628T140000Z
X-MICROSOFT-CDO-ALLDAYEVENT:FALSE
SUMMARY:2012 June CIO Breakfast
DESCRIPTION:
X-ALT-DESC;FMTTYPE=text/html:<P>&nbsp\;</P>
LOCATION:Petroleum Club of San Antonio
UID:e.2020.977
SEQUENCE:3
DTSTAMP:20260421T152124Z
URL:https://cm-dev.metrosa.com/events/details/2012-june-cio-breakfast-06-28-2012-977
END:VEVENT

END:VCALENDAR
