BEGIN:VCALENDAR
VERSION:2.0
PRODID:-//ChamberMaster//Event Calendar 2.0//EN
METHOD:PUBLISH
X-PUBLISHED-TTL:P3D
REFRESH-INTERVAL:P3D
CALSCALE:GREGORIAN
BEGIN:VEVENT
DTSTART:20120612T163000Z
DTEND:20120612T180000Z
X-MICROSOFT-CDO-ALLDAYEVENT:FALSE
SUMMARY:2012 June SustainAbility Green Bag Lunch Mtg
DESCRIPTION:Bring your lunch\, network with fellow "greenies" \, discuss relevant issues and hear a great presentation from Brent Anderson\, MSA Architecture Interior Additions & Renovations - A Case Study for LEED Certification in an Existing Building This presentation will consist of a discussion regarding the process of turning a local orthodontist office into a sustainable place to work and clients to experience.  We will discuss how a professional office within an existing typical retail shell building can be transformed into an energetic sustainable environment for an orthodontic staff and the clients they serve.   We will talk about our client\, design team and construction team.  The presentation will also cover the project from inception through the process of design\, including the sustainable design development process\, construction and completion.
X-ALT-DESC;FMTTYPE=text/html:<DIV style="FONT-FAMILY: Arial">Bring your lunch\, network with fellow "greenies" \, discuss relevant issues and hear a great presentation from Brent Anderson\, MSA Architecture</DIV><DIV style="FONT-FAMILY: Arial">&nbsp\;</DIV><DIV style="FONT-FAMILY: Arial">Interior Additions &amp\; Renovations - A Case Study for LEED Certification in an Existing Building</DIV><DIV style="FONT-FAMILY: Arial"><P style="MARGIN: 0in 0in 0pt" class=MsoNormal><SPAN style="FONT-FAMILY: 'Arial'\,'sans-serif'\; FONT-SIZE: 10pt"></SPAN>&nbsp\;</P><P style="MARGIN: 0in 0in 0pt" class=MsoNormal><SPAN style="FONT-FAMILY: 'Arial'\,'sans-serif'\; FONT-SIZE: 10pt">This presentation will consist of a discussion regarding the process of turning a local orthodontist office into a sustainable place to work and clients to experience.&nbsp\; We will discuss how a professional office within an existing typical retail shell building can be transformed into an energetic sustainable environment for an orthodontic staff and the clients they serve.&nbsp\; &nbsp\;We will talk about our client\, design team and construction team. &nbsp\;The presentation will also cover the project from inception through the process of design\, including the sustainable design development process\, construction and completion. <?xml:namespace prefix = o ns = "urn:schemas-microsoft-com:office:office" /><o:p></o:p></SPAN></P></DIV>
LOCATION:North San Antonio Chamber of Commerce
UID:e.2020.1001
SEQUENCE:3
DTSTAMP:20260421T153402Z
URL:https://cm-dev.metrosa.com/events/details/2012-june-sustainability-green-bag-lunch-mtg-06-12-2012-1001
END:VEVENT

END:VCALENDAR
