BEGIN:VCALENDAR
VERSION:2.0
PRODID:-//ChamberMaster//Event Calendar 2.0//EN
METHOD:PUBLISH
X-PUBLISHED-TTL:P3D
REFRESH-INTERVAL:P3D
CALSCALE:GREGORIAN
BEGIN:VEVENT
DTSTART:20111010T050000Z
DTEND:20111010T050000Z
X-MICROSOFT-CDO-ALLDAYEVENT:FALSE
SUMMARY:2012 Leadership Lab Class
DESCRIPTION:
X-ALT-DESC;FMTTYPE=text/html:
LOCATION:North Chamber
UID:e.2020.939
SEQUENCE:3
DTSTAMP:20260422T024914Z
URL:https://cm-dev.metrosa.com/events/details/2012-leadership-lab-class-10-10-2011-939
END:VEVENT

END:VCALENDAR
