BEGIN:VCALENDAR
VERSION:2.0
PRODID:-//ChamberMaster//Event Calendar 2.0//EN
METHOD:PUBLISH
X-PUBLISHED-TTL:P3D
REFRESH-INTERVAL:P3D
CALSCALE:GREGORIAN
BEGIN:VEVENT
DTSTART:20120315T163000Z
DTEND:20120315T180000Z
X-MICROSOFT-CDO-ALLDAYEVENT:FALSE
SUMMARY:2012 March Ambassador Lunch
DESCRIPTION:March Ambassador Lunch  DATE/TIME:     Thursday March 15\, 2012 /11:30 AM to 1:00 PM LOCATION:                            Audens Kitchen700 East SonterraSan Antonio Tx 78258210-494-0070   Menu:  First Course: Mixed greens with red wine vinaigrette\, tomatoes\, and almonds ~ Or cup of soup of the day.  Choice of Entree (A or B): A  2 piece Buttermilk Fried Chicken\, Skin on Mashers\, Black Pepper Gravy  B  AK Corned Beef\, Red Potatoes\, Cabbage  Beverage: Water / Iced tea / Coffee  PRICE:                      $16.60 all inclusive ~ Thank you!  RSVP'S:                     DEADLINE IS Monday –March 12\, 2012- NOON WITH PAYMENT FOR YOUR TEAM’S EXTRA 300 POINTS.  Registration goes off website midnight Wednesday March 14\, 2012.                                      REGISTER ON LINE WITH CREDIT CARD AT www.northsachamber.com
X-ALT-DESC;FMTTYPE=text/html:<DIV><P style="MARGIN: 0in 0in 0pt\; mso-layout-grid-align: none" class=MsoNormal><B><U><SPAN style="FONT-FAMILY: 'Times New Roman'\,'serif'\; FONT-SIZE: 12pt"></SPAN></U></B></P><P style="MARGIN: 0in 0in 0pt\; mso-layout-grid-align: none" class=MsoNormal><B><SPAN style="FONT-FAMILY: 'Times New Roman'\,'serif'\; FONT-SIZE: 12pt"><FONT size=4>March Ambassador Lunch</FONT></SPAN></B></P><P style="MARGIN: 0in 0in 0pt\; mso-layout-grid-align: none" class=MsoNormal><B><SPAN style="FONT-FAMILY: 'Times New Roman'\,'serif'\; FONT-SIZE: 12pt"><FONT size=6></FONT></SPAN></B>&nbsp\;</P><P style="MARGIN: 0in 0in 0pt\; mso-layout-grid-align: none" class=MsoNormal><B><U><SPAN style="FONT-FAMILY: 'Times New Roman'\,'serif'\; FONT-SIZE: 12pt"></SPAN></U></B>&nbsp\;</P><P style="MARGIN: 0in 0in 0pt\; mso-layout-grid-align: none" class=MsoNormal><B><U><SPAN style="FONT-FAMILY: 'Times New Roman'\,'serif'\; FONT-SIZE: 12pt">DATE/TIME:</SPAN></U></B><B><SPAN style="FONT-FAMILY: 'Times New Roman'\,'serif'\; FONT-SIZE: 12pt"><SPAN style="mso-spacerun: yes">&nbsp\;&nbsp\;&nbsp\;&nbsp\; </SPAN><U>Thursday</U> March 15\, 2012</SPAN></B><B><SPAN style="FONT-FAMILY: 'Verdana'\,'sans-serif'\; COLOR: black\; FONT-SIZE: 12pt\; mso-bidi-font-family: Verdana"> /<FONT face="Times New Roman">11:30 AM to 1:00 PM</FONT></SPAN></B></P><P style="MARGIN: 0in 0in 0pt\; mso-layout-grid-align: none" class=MsoNormal><B><SPAN style="FONT-FAMILY: 'Verdana'\,'sans-serif'\; COLOR: black\; FONT-SIZE: 12pt\; mso-bidi-font-family: Verdana"></SPAN></B><B><SPAN style="FONT-FAMILY: 'Times New Roman'\,'serif'\; FONT-SIZE: 12pt"><?xml:namespace prefix = o ns = "urn:schemas-microsoft-com:office:office" /><o:p></o:p></SPAN></B>&nbsp\;</P><P style="MARGIN: 0in 0in 0pt\; mso-layout-grid-align: none" class=MsoNormal><B><U><SPAN style="FONT-FAMILY: 'Times New Roman'\,'serif'\; FONT-SIZE: 12pt"><o:p><SPAN style="TEXT-DECORATION: none"></SPAN></o:p></SPAN></U></B></P><P style="TEXT-INDENT: -1.5in\; MARGIN: 5pt 0in 5pt 1.5in\; mso-layout-grid-align: none" class=MsoNormal><B><U><SPAN style="FONT-FAMILY: 'Times New Roman'\,'serif'\; FONT-SIZE: 12pt">LOCATION:</SPAN></U></B><B><SPAN style="FONT-FAMILY: 'Times New Roman'\,'serif'\; FONT-SIZE: 12pt"><SPAN style="mso-tab-count: 2">&nbsp\;&nbsp\;&nbsp\;&nbsp\;&nbsp\;&nbsp\;&nbsp\;&nbsp\;&nbsp\;&nbsp\;&nbsp\;&nbsp\;&nbsp\;&nbsp\;&nbsp\;&nbsp\;&nbsp\;&nbsp\;&nbsp\;&nbsp\;&nbsp\;&nbsp\;&nbsp\;&nbsp\; </SPAN><SPAN style="mso-spacerun: yes">&nbsp\;&nbsp\; </SPAN></SPAN></B><SPAN style="FONT-FAMILY: 'Times New Roman'\,'serif'\; FONT-SIZE: 12pt"><o:p></o:p></SPAN></P><DIV align=center><TABLE style="BORDER-COLLAPSE: collapse\; mso-table-layout-alt: fixed\; mso-padding-top-alt: 0in\; mso-padding-bottom-alt: 0in" class=MsoNormalTable border=0 cellSpacing=0 cellPadding=0><TBODY><TR style="mso-yfti-irow: 0\; mso-yfti-firstrow: yes"><TD style="BORDER-BOTTOM: #ece9d8\; BORDER-LEFT: #ece9d8\; PADDING-BOTTOM: 0in\; BACKGROUND-COLOR: transparent\; PADDING-LEFT: 0.75pt\; WIDTH: 329.8pt\; PADDING-RIGHT: 0.75pt\; BORDER-TOP: #ece9d8\; BORDER-RIGHT: #ece9d8\; PADDING-TOP: 0in" vAlign=top width=440><P style="MARGIN: 0in 0in 0pt\; mso-layout-grid-align: none" class=MsoNormal><SPAN style="FONT-FAMILY: 'Verdana'\,'sans-serif'\; COLOR: black\; FONT-SIZE: 12pt\; mso-bidi-font-family: Verdana">Audens Kitchen</SPAN><SPAN style="FONT-FAMILY: 'Verdana'\,'sans-serif'\; FONT-SIZE: 12pt\; mso-bidi-font-family: Verdana"><o:p></o:p></SPAN></P></TD></TR><TR style="mso-yfti-irow: 1"><TD style="BORDER-BOTTOM: #ece9d8\; BORDER-LEFT: #ece9d8\; PADDING-BOTTOM: 0in\; BACKGROUND-COLOR: transparent\; PADDING-LEFT: 0.75pt\; WIDTH: 329.8pt\; PADDING-RIGHT: 0.75pt\; BORDER-TOP: #ece9d8\; BORDER-RIGHT: #ece9d8\; PADDING-TOP: 0in" vAlign=top width=440><P style="MARGIN: 0in 0in 0pt\; mso-layout-grid-align: none" class=MsoNormal><SPAN style="FONT-FAMILY: 'Verdana'\,'sans-serif'\; COLOR: black\; FONT-SIZE: 12pt\; mso-bidi-font-family: Verdana">700 East Sonterra</SPAN><SPAN style="FONT-FAMILY: 'Verdana'\,'sans-serif'\; FONT-SIZE: 12pt\; mso-bidi-font-family: Verdana"><o:p></o:p></SPAN></P></TD></TR><TR style="mso-yfti-irow: 2"><TD style="BORDER-BOTTOM: #ece9d8\; BORDER-LEFT: #ece9d8\; PADDING-BOTTOM: 0in\; BACKGROUND-COLOR: transparent\; PADDING-LEFT: 0.75pt\; WIDTH: 329.8pt\; PADDING-RIGHT: 0.75pt\; BORDER-TOP: #ece9d8\; BORDER-RIGHT: #ece9d8\; PADDING-TOP: 0in" vAlign=top width=440><P style="MARGIN: 0in 0in 0pt\; mso-layout-grid-align: none" class=MsoNormal><SPAN style="FONT-FAMILY: 'Verdana'\,'sans-serif'\; COLOR: black\; FONT-SIZE: 12pt\; mso-bidi-font-family: Verdana">San Antonio Tx 78258</SPAN><SPAN style="FONT-FAMILY: 'Verdana'\,'sans-serif'\; FONT-SIZE: 12pt\; mso-bidi-font-family: Verdana"><o:p></o:p></SPAN></P></TD></TR><TR style="mso-yfti-irow: 3\; mso-yfti-lastrow: yes"><TD style="BORDER-BOTTOM: #ece9d8\; BORDER-LEFT: #ece9d8\; PADDING-BOTTOM: 0in\; BACKGROUND-COLOR: transparent\; PADDING-LEFT: 0.75pt\; WIDTH: 329.8pt\; PADDING-RIGHT: 0.75pt\; BORDER-TOP: #ece9d8\; BORDER-RIGHT: #ece9d8\; PADDING-TOP: 0in" vAlign=top width=440><P style="MARGIN: 0in 0in 0pt\; mso-layout-grid-align: none" class=MsoNormal><SPAN style="FONT-FAMILY: 'Arial'\,'sans-serif'\; FONT-SIZE: 12pt">210-494-0070<o:p></o:p></SPAN></P></TD></TR></TBODY></TABLE></DIV><P style="TEXT-INDENT: -1.5in\; MARGIN: 5pt 0in 5pt 1.5in\; mso-layout-grid-align: none" class=MsoNormal><B><SPAN style="FONT-FAMILY: 'Times New Roman'\,'serif'\; FONT-SIZE: 12pt"><SPAN style="mso-spacerun: yes">&nbsp\;&nbsp\; </SPAN><o:p></o:p></SPAN></B></P><P style="LINE-HEIGHT: 16pt\; MARGIN: 0in 0in 0pt\; mso-layout-grid-align: none" class=MsoNormal><B><U><SPAN style="FONT-FAMILY: 'Times New Roman'\,'serif'\; FONT-SIZE: 12pt">Menu:</SPAN></U></B><B><SPAN style="FONT-FAMILY: 'Times New Roman'\,'serif'\; FONT-SIZE: 12pt"><SPAN style="mso-tab-count: 1"> </SPAN><o:p></o:p></SPAN></B></P><P style="LINE-HEIGHT: 16pt\; MARGIN: 0in 0in 0pt\; mso-layout-grid-align: none" class=MsoNormal><SPAN style="FONT-FAMILY: 'Arial'\,'sans-serif'\; COLOR: black\; FONT-SIZE: 12pt"><o:p>&nbsp\;</o:p></SPAN></P><P style="LINE-HEIGHT: 16pt\; MARGIN: 0in 0in 0pt\; mso-layout-grid-align: none" class=MsoNormal><B style="mso-bidi-font-weight: normal"><SPAN style="FONT-FAMILY: 'Arial'\,'sans-serif'\; COLOR: black\; FONT-SIZE: 12pt">First Course</SPAN></B><SPAN style="FONT-FAMILY: 'Arial'\,'sans-serif'\; COLOR: black\; FONT-SIZE: 12pt">: Mixed greens with red wine vinaigrette\, tomatoes\, and almonds ~ <B style="mso-bidi-font-weight: normal">Or</B> cup of soup of the day. </SPAN></P><P style="LINE-HEIGHT: 16pt\; MARGIN: 0in 0in 0pt\; mso-layout-grid-align: none" class=MsoNormal><SPAN style="FONT-FAMILY: 'Arial'\,'sans-serif'\; COLOR: black\; FONT-SIZE: 12pt"><o:p></o:p></SPAN>&nbsp\;</P><P style="PAGE-BREAK-AFTER: avoid\; MARGIN: 5pt 0in\; mso-layout-grid-align: none" class=MsoNormal><B><SPAN style="FONT-FAMILY: 'Arial'\,'sans-serif'\; COLOR: black\; FONT-SIZE: 12pt">Choice of Entree (A or B): <o:p></o:p></SPAN></B></P><P style="PAGE-BREAK-AFTER: avoid\; MARGIN: 5pt 0in\; mso-layout-grid-align: none" class=MsoNormal><B><SPAN style="FONT-FAMILY: 'Arial'\,'sans-serif'\; COLOR: black\; FONT-SIZE: 12pt">A&nbsp\; </SPAN></B><SPAN style="FONT-FAMILY: 'Arial'\,'sans-serif'\; COLOR: black\; FONT-SIZE: 12pt\; mso-bidi-font-weight: bold">2 piece<B> </B>Buttermilk Fried Chicken\, Skin on Mashers\, Black Pepper Gravy&nbsp\;</SPAN><SPAN style="FONT-FAMILY: 'Arial'\,'sans-serif'\; FONT-SIZE: 12pt"> <o:p></o:p></SPAN></P><P style="PAGE-BREAK-AFTER: avoid\; MARGIN: 5pt 0in\; mso-layout-grid-align: none" class=MsoNormal><B style="mso-bidi-font-weight: normal"><SPAN style="FONT-FAMILY: 'Arial'\,'sans-serif'\; FONT-SIZE: 12pt">B&nbsp\;</SPAN></B><SPAN style="FONT-FAMILY: 'Arial'\,'sans-serif'\; FONT-SIZE: 12pt"> AK Corned Beef\, Red Potatoes\, Cabbage <o:p></o:p></SPAN></P><P style="PAGE-BREAK-AFTER: avoid\; MARGIN: 5pt 0in\; mso-layout-grid-align: none" class=MsoNormal><SPAN style="FONT-FAMILY: 'Arial'\,'sans-serif'\; FONT-SIZE: 12pt"><o:p>&nbsp\;</o:p></SPAN></P><P style="LINE-HEIGHT: 150%\; MARGIN: 0in 0in 0pt\; mso-layout-grid-align: none" class=MsoNormal><B><SPAN style="LINE-HEIGHT: 150%\; FONT-FAMILY: 'Arial'\,'sans-serif'\; COLOR: black\; FONT-SIZE: 12pt">Beverage</SPAN></B><SPAN style="LINE-HEIGHT: 150%\; FONT-FAMILY: 'Arial'\,'sans-serif'\; COLOR: black\; FONT-SIZE: 12pt">: Water / Iced tea / Coffee <o:p></o:p></SPAN></P><P style="TEXT-INDENT: -1.5in\; MARGIN: 5pt 0in 5pt 1.5in\; mso-layout-grid-align: none" class=MsoNormal><B><SPAN style="FONT-FAMILY: 'Times New Roman'\,'serif'\; FONT-SIZE: 12pt"><o:p>&nbsp\;</o:p></SPAN></B></P><P style="MARGIN: 0in 0in 0pt\; mso-layout-grid-align: none" class=MsoNormal><B><U><SPAN style="FONT-FAMILY: 'Times New Roman'\,'serif'\; FONT-SIZE: 12pt">PRICE:</SPAN></U></B><B><SPAN style="FONT-FAMILY: 'Times New Roman'\,'serif'\; FONT-SIZE: 12pt"><SPAN style="mso-tab-count: 2">&nbsp\;&nbsp\;&nbsp\;&nbsp\;&nbsp\;&nbsp\;&nbsp\;&nbsp\;&nbsp\;&nbsp\;&nbsp\;&nbsp\;&nbsp\;&nbsp\;&nbsp\;&nbsp\;&nbsp\;&nbsp\;&nbsp\;&nbsp\;&nbsp\; </SPAN><SPAN style="COLOR: red">$16.60 all inclusive ~ Thank you! </SPAN><o:p></o:p></SPAN></B></P><P style="TEXT-INDENT: -1.5in\; MARGIN: 0in 0in 0pt 1.5in\; mso-layout-grid-align: none" class=MsoNormal><B><SPAN style="FONT-FAMILY: 'Times New Roman'\,'serif'\; FONT-SIZE: 12pt"><o:p>&nbsp\;</o:p></SPAN></B></P><P style="TEXT-INDENT: -1.5in\; MARGIN: 0in 0in 0pt 1.5in\; mso-layout-grid-align: none" class=MsoNormal><B><U><SPAN style="FONT-FAMILY: 'Times New Roman'\,'serif'\; FONT-SIZE: 12pt">RSVP'S:</SPAN></U></B><B><SPAN style="FONT-FAMILY: 'Times New Roman'\,'serif'\; FONT-SIZE: 12pt"><SPAN style="mso-tab-count: 1">&nbsp\;&nbsp\;&nbsp\;&nbsp\;&nbsp\;&nbsp\;&nbsp\;&nbsp\;&nbsp\;&nbsp\;&nbsp\;&nbsp\;&nbsp\;&nbsp\;&nbsp\;&nbsp\;&nbsp\;&nbsp\;&nbsp\;&nbsp\; </SPAN><U><SPAN style="COLOR: blue">DEADLINE IS Monday –March 12\, 2012- NOON WITH PAYMENT FOR YOUR TEAM’S EXTRA 300 POINTS.</SPAN><SPAN style="COLOR: #993300"> </SPAN></U></SPAN></B></P><P style="TEXT-INDENT: -1.5in\; MARGIN: 0in 0in 0pt 1.5in\; mso-layout-grid-align: none" class=MsoNormal><B><SPAN style="FONT-FAMILY: 'Times New Roman'\,'serif'\; FONT-SIZE: 12pt"><U><SPAN style="COLOR: #993300"><o:p></o:p></SPAN></U></SPAN></B>&nbsp\;</P><P style="MARGIN: 0in 0in 0pt 1.5in\; mso-layout-grid-align: none" class=MsoNormal><B><U><SPAN style="FONT-FAMILY: 'Times New Roman'\,'serif'\; COLOR: #c00000\; FONT-SIZE: 12pt">Registration goes off website midnight Wednesday March 14\, 2012. </SPAN></U></B></P><P style="MARGIN: 0in 0in 0pt 1.5in\; mso-layout-grid-align: none" class=MsoNormal><B><U><SPAN style="FONT-FAMILY: 'Times New Roman'\,'serif'\; COLOR: #c00000\; FONT-SIZE: 12pt"><o:p></o:p></SPAN></U></B>&nbsp\;</P><P style="MARGIN: 0in 0in 0pt 1.5in\; mso-layout-grid-align: none" class=MsoNormal><B><U><SPAN style="FONT-FAMILY: 'Times New Roman'\,'serif'\; FONT-SIZE: 12pt"><o:p><SPAN style="TEXT-DECORATION: none"></SPAN></o:p></SPAN></U></B></P><P style="MARGIN: 0in 0in 0pt\; mso-layout-grid-align: none" class=MsoNormal><B><SPAN style="FONT-FAMILY: 'Times New Roman'\,'serif'\; COLOR: #c00000\; FONT-SIZE: 12pt"><SPAN style="mso-spacerun: yes">&nbsp\;&nbsp\;&nbsp\;&nbsp\;&nbsp\;&nbsp\;&nbsp\;&nbsp\;&nbsp\;&nbsp\;&nbsp\;&nbsp\;&nbsp\;&nbsp\;&nbsp\;&nbsp\;&nbsp\;&nbsp\;&nbsp\;&nbsp\;&nbsp\;&nbsp\;&nbsp\;&nbsp\;&nbsp\;&nbsp\;&nbsp\;&nbsp\;&nbsp\;&nbsp\;&nbsp\;&nbsp\;&nbsp\;&nbsp\;&nbsp\; </SPAN>REGISTER ON LINE WITH CREDIT CARD AT</SPAN></B><B><SPAN style="FONT-FAMILY: 'Times New Roman'\,'serif'\; COLOR: red\; FONT-SIZE: 12pt"> <A href="http://www.northsachamber.com/"><SPAN style="COLOR: blue">www.northsachamber.com</SPAN></A></SPAN></B><B><SPAN style="FONT-FAMILY: 'Times New Roman'\,'serif'\; COLOR: red\; FONT-SIZE: 14pt"><o:p></o:p></SPAN></B></P><P style="MARGIN: 0in 0in 0pt\; mso-layout-grid-align: none" class=MsoNormal><SPAN style="COLOR: black\; FONT-SIZE: 12pt\; mso-bidi-font-family: Calibri"><o:p><FONT face=Calibri>&nbsp\;</FONT></o:p></SPAN></P><P style="TEXT-INDENT: -1.5in\; MARGIN: 5pt 0in 5pt 1.5in\; mso-layout-grid-align: none" class=MsoNormal><B><SPAN style="FONT-FAMILY: 'Times New Roman'\,'serif'\; FONT-SIZE: 12pt"><SPAN style="mso-spacerun: yes">&nbsp\;&nbsp\; </SPAN></SPAN></B><SPAN style="COLOR: black\; FONT-SIZE: 12pt\; mso-bidi-font-family: Calibri"><o:p></o:p></SPAN></P><P style="MARGIN: 0in 0in 0pt" class=MsoNormal><SPAN style="COLOR: black\; FONT-SIZE: 12pt\; mso-bidi-font-family: Calibri"><o:p><FONT face=Calibri>&nbsp\;</FONT></o:p></SPAN></P><P style="MARGIN: 0in 0in 0pt" class=MsoNormal><SPAN style="COLOR: black\; FONT-SIZE: 12pt\; mso-bidi-font-family: Calibri"><o:p><FONT face=Calibri>&nbsp\;</FONT></o:p></SPAN></P></DIV>
LOCATION:Auden's Kitchen
UID:e.2020.988
SEQUENCE:3
DTSTAMP:20260421T192335Z
URL:https://cm-dev.metrosa.com/events/details/2012-march-ambassador-lunch-03-15-2012-988
END:VEVENT

END:VCALENDAR
