BEGIN:VCALENDAR
VERSION:2.0
PRODID:-//ChamberMaster//Event Calendar 2.0//EN
METHOD:PUBLISH
X-PUBLISHED-TTL:P3D
REFRESH-INTERVAL:P3D
CALSCALE:GREGORIAN
BEGIN:VEVENT
DTSTART:20120322T121500Z
DTEND:20120322T140000Z
X-MICROSOFT-CDO-ALLDAYEVENT:FALSE
SUMMARY:2012 March CIO Breakfast
DESCRIPTION:
X-ALT-DESC;FMTTYPE=text/html:<P>&nbsp\;</P>
LOCATION:Petroleum Club of San Antonio
UID:e.2020.974
SEQUENCE:3
DTSTAMP:20260421T192330Z
URL:https://cm-dev.metrosa.com/events/details/2012-march-cio-breakfast-03-22-2012-974
END:VEVENT

END:VCALENDAR
