BEGIN:VCALENDAR
VERSION:2.0
PRODID:-//ChamberMaster//Event Calendar 2.0//EN
METHOD:PUBLISH
X-PUBLISHED-TTL:P3D
REFRESH-INTERVAL:P3D
CALSCALE:GREGORIAN
BEGIN:VEVENT
DTSTART:20120301T214500Z
DTEND:20120301T224500Z
X-MICROSOFT-CDO-ALLDAYEVENT:FALSE
SUMMARY:2012 March*Grand Opening: Mentis Neuro SA\, LLC
DESCRIPTION:Regarding:      Grand Opening ~                            Mentis Neuro San Antonio\, LLC Date:                Thursday March 1\, 2012 Event Time:      Ribbon Cutting Ceremony:  3:45 p.m.                           Open House:  4:00 – 7:30 p.m.                                    Location:        6849 Crestway\, Suite B ~ San Antonio\, 78239                           I-35 N toward Austin TX. / Exit Randolph/Windcrest                                                                Website: http://www.mentisneuro.com/                                  Who:                 Contacts:                            Brenda Miles\, Mentis Neuro\, SA  ~ 210/426-028                           Wendy Thomas\, North Chamber ~ 210/384-7724
X-ALT-DESC;FMTTYPE=text/html:<DIV><P style="TEXT-ALIGN: justify\; MARGIN: 0in 0in 0pt" class=MsoNormal align=left><B><SPAN style="FONT-VARIANT: small-caps\; FONT-FAMILY: 'Times New Roman'\,'serif'\; FONT-SIZE: 12pt">Regarding:&nbsp\;&nbsp\;&nbsp\;&nbsp\;&nbsp\; Grand Opening ~ </SPAN></B></P><P style="TEXT-ALIGN: justify\; MARGIN: 0in 0in 0pt" class=MsoNormal align=left><B><SPAN style="FONT-VARIANT: small-caps\; FONT-FAMILY: 'Times New Roman'\,'serif'\; FONT-SIZE: 12pt">&nbsp\;&nbsp\;&nbsp\;&nbsp\;&nbsp\;&nbsp\;&nbsp\;&nbsp\;&nbsp\;&nbsp\;&nbsp\;&nbsp\;&nbsp\;&nbsp\;&nbsp\;&nbsp\;&nbsp\;&nbsp\;&nbsp\;&nbsp\;&nbsp\;&nbsp\;&nbsp\;&nbsp\;&nbsp\;&nbsp\; Mentis Neuro </SPAN></B><B><SPAN style="FONT-FAMILY: 'Times New Roman'\,'serif'\; FONT-SIZE: 12pt">San Antonio\, LLC<?xml:namespace prefix = o ns = "urn:schemas-microsoft-com:office:office" /><o:p></o:p></SPAN></B></P><P style="TEXT-ALIGN: justify\; MARGIN: 0in 0in 0pt" class=MsoNormal align=left><B><SPAN style="FONT-FAMILY: 'Times New Roman'\,'serif'\; FONT-SIZE: 12pt"><o:p>&nbsp\;</o:p></SPAN></B></P><P style="TEXT-ALIGN: justify\; MARGIN: 0in 0in 0pt" class=MsoNormal align=left><B><SPAN style="FONT-VARIANT: small-caps\; FONT-FAMILY: 'Times New Roman'\,'serif'\; FONT-SIZE: 12pt">Date:</SPAN></B><SPAN style="FONT-FAMILY: 'Times New Roman'\,'serif'\; FONT-SIZE: 12pt"><SPAN style="mso-tab-count: 3">&nbsp\;&nbsp\;&nbsp\;&nbsp\;&nbsp\;&nbsp\;&nbsp\;&nbsp\;&nbsp\;&nbsp\;&nbsp\;&nbsp\;&nbsp\;&nbsp\;&nbsp\; </SPAN>Thursday March 1\, 2012<o:p></o:p></SPAN></P><P style="TEXT-ALIGN: justify\; MARGIN: 0in 0in 0pt" class=MsoNormal align=left><SPAN style="FONT-FAMILY: 'Times New Roman'\,'serif'\; FONT-SIZE: 12pt"><o:p>&nbsp\;</o:p></SPAN></P><P style="TEXT-ALIGN: justify\; LINE-HEIGHT: 150%\; MARGIN: 0in 0in 0pt\; tab-stops: .5in center 3.0in right 6.0in" class=MsoNormal align=left><B><SPAN style="LINE-HEIGHT: 150%\; FONT-VARIANT: small-caps\; FONT-FAMILY: 'Times New Roman'\,'serif'\; FONT-SIZE: 12pt">Event Time:<SPAN style="mso-tab-count: 1">&nbsp\;&nbsp\;&nbsp\;&nbsp\;&nbsp\; R</SPAN></SPAN></B><B style="mso-bidi-font-weight: normal"><SPAN style="LINE-HEIGHT: 150%\; FONT-FAMILY: 'Times New Roman'\,'serif'\; FONT-SIZE: 12pt">ibbon Cutting Ceremony: <SPAN style="mso-bidi-font-weight: bold"><SPAN style="mso-spacerun: yes">&nbsp\;</SPAN>3:45 p.m.<o:p></o:p></SPAN></SPAN></B></P><P style="TEXT-ALIGN: justify\; LINE-HEIGHT: 150%\; TEXT-INDENT: -1.5in\; MARGIN: 0in 0in 0pt 1.5in\; tab-stops: .5in center 3.0in right 6.0in" class=MsoNormal align=left><B><SPAN style="LINE-HEIGHT: 150%\; FONT-VARIANT: small-caps\; FONT-FAMILY: 'Times New Roman'\,'serif'\; FONT-SIZE: 12pt"><SPAN style="mso-spacerun: yes">&nbsp\;&nbsp\;&nbsp\;&nbsp\;&nbsp\;&nbsp\;&nbsp\;&nbsp\;&nbsp\;&nbsp\;&nbsp\;&nbsp\;&nbsp\;&nbsp\;&nbsp\;&nbsp\;&nbsp\;&nbsp\;&nbsp\;&nbsp\;&nbsp\;&nbsp\;&nbsp\;&nbsp\;&nbsp\;&nbsp\;&nbsp\;</SPAN>Open House: <SPAN style="mso-spacerun: yes">&nbsp\;</SPAN></SPAN></B><SPAN style="LINE-HEIGHT: 150%\; FONT-VARIANT: small-caps\; FONT-FAMILY: 'Times New Roman'\,'serif'\; FONT-SIZE: 12pt\; mso-bidi-font-weight: bold">4:00</SPAN><SPAN style="LINE-HEIGHT: 150%\; FONT-FAMILY: 'Times New Roman'\,'serif'\; FONT-SIZE: 12pt\; mso-bidi-font-weight: bold"> – 7:30 p.m.</SPAN><SPAN style="LINE-HEIGHT: 150%\; FONT-FAMILY: 'Times New Roman'\,'serif'\; FONT-SIZE: 12pt"><o:p></o:p></SPAN></P><P style="TEXT-ALIGN: justify\; MARGIN: 0in 0in 0pt" class=MsoNormal align=left><SPAN style="FONT-FAMILY: 'Times New Roman'\,'serif'\; FONT-SIZE: 12pt"><SPAN style="mso-tab-count: 3">&nbsp\;&nbsp\;&nbsp\;&nbsp\;&nbsp\;&nbsp\;&nbsp\;&nbsp\;&nbsp\;&nbsp\;&nbsp\;&nbsp\;&nbsp\;&nbsp\;&nbsp\;&nbsp\;&nbsp\;&nbsp\;&nbsp\;&nbsp\;&nbsp\;&nbsp\;&nbsp\;&nbsp\;&nbsp\;&nbsp\;&nbsp\;&nbsp\;&nbsp\;&nbsp\;&nbsp\;&nbsp\;&nbsp\;&nbsp\;&nbsp\; </SPAN><B><SPAN style="FONT-VARIANT: small-caps"><o:p></o:p></SPAN></B></SPAN></P><P style="TEXT-ALIGN: justify\; MARGIN: 0in 0in 0pt" class=MsoNormal align=left><B><SPAN style="FONT-VARIANT: small-caps\; FONT-FAMILY: 'Times New Roman'\,'serif'\; FONT-SIZE: 12pt">Location:</SPAN></B><SPAN style="FONT-FAMILY: 'Times New Roman'\,'serif'\; FONT-SIZE: 12pt"><SPAN style="mso-tab-count: 2">&nbsp\;&nbsp\;&nbsp\;&nbsp\;&nbsp\;&nbsp\;&nbsp\;&nbsp\;</SPAN>6849 Crestway\, Suite B ~ San Antonio\, 78239<o:p></o:p></SPAN></P><P style="TEXT-ALIGN: justify\; MARGIN: 0in 0in 0pt" class=MsoNormal align=left><SPAN style="FONT-FAMILY: 'Times New Roman'\,'serif'\; FONT-SIZE: 12pt"><SPAN style="mso-tab-count: 3">&nbsp\;&nbsp\;&nbsp\;&nbsp\;&nbsp\;&nbsp\;&nbsp\;&nbsp\;&nbsp\;&nbsp\;&nbsp\;&nbsp\;&nbsp\;&nbsp\;&nbsp\;&nbsp\;&nbsp\;&nbsp\;&nbsp\;&nbsp\;&nbsp\;&nbsp\;&nbsp\;&nbsp\;&nbsp\;&nbsp\;&nbsp\;</SPAN></SPAN><FONT size=3><SPAN style="FONT-FAMILY: 'Times New Roman'\,'serif'\; FONT-SIZE: 10pt">I-35 N toward Austin TX. / Exit Randolph/Windcrest</SPAN><SPAN style="FONT-FAMILY: 'Times New Roman'\,'serif'\; FONT-SIZE: 12pt"> <o:p></o:p></SPAN></FONT></P><P style="TEXT-ALIGN: justify\; MARGIN: 0in 0in 0pt" class=MsoNormal align=left><SPAN style="FONT-FAMILY: 'Times New Roman'\,'serif'\; FONT-SIZE: 12pt"><SPAN style="mso-spacerun: yes">&nbsp\;&nbsp\;&nbsp\;&nbsp\;&nbsp\;&nbsp\;&nbsp\;&nbsp\;&nbsp\;&nbsp\;&nbsp\;&nbsp\;&nbsp\;&nbsp\;&nbsp\;&nbsp\;&nbsp\;&nbsp\;&nbsp\;&nbsp\;&nbsp\;&nbsp\;&nbsp\;&nbsp\;&nbsp\;&nbsp\;&nbsp\;&nbsp\;&nbsp\;&nbsp\;&nbsp\;&nbsp\;&nbsp\;&nbsp\;&nbsp\; </SPAN><o:p></o:p></SPAN></P><P style="TEXT-ALIGN: justify\; MARGIN: 0in 0in 0pt" class=MsoNormal align=left><SPAN style="FONT-FAMILY: 'Times New Roman'\,'serif'\; FONT-SIZE: 12pt"><SPAN style="mso-spacerun: yes">&nbsp\;&nbsp\;&nbsp\;&nbsp\;&nbsp\;&nbsp\;&nbsp\;&nbsp\;&nbsp\;&nbsp\;&nbsp\;&nbsp\;&nbsp\;&nbsp\;&nbsp\;&nbsp\;&nbsp\;&nbsp\;&nbsp\;&nbsp\;&nbsp\;&nbsp\;&nbsp\;&nbsp\;&nbsp\;&nbsp\;&nbsp\;</SPAN>Website: http://www.mentisneuro.com/<o:p></o:p></SPAN></P><P style="TEXT-ALIGN: justify\; MARGIN: 0in 0in 0pt" class=MsoNormal align=left><SPAN style="FONT-FAMILY: 'Times New Roman'\,'serif'\; FONT-SIZE: 12pt"><o:p>&nbsp\;</o:p></SPAN><SPAN style="FONT-FAMILY: 'Times New Roman'\,'serif'\; FONT-SIZE: 12pt"><o:p>&nbsp\;</o:p></SPAN><SPAN style="FONT-FAMILY: 'Times New Roman'\,'serif'\; FONT-SIZE: 12pt"><SPAN style="mso-tab-count: 3">&nbsp\;&nbsp\;&nbsp\;&nbsp\;&nbsp\;&nbsp\;&nbsp\;&nbsp\;&nbsp\;&nbsp\;&nbsp\;&nbsp\;&nbsp\;&nbsp\;&nbsp\;&nbsp\;&nbsp\;&nbsp\;&nbsp\;&nbsp\;&nbsp\;&nbsp\;&nbsp\;&nbsp\;&nbsp\;&nbsp\;&nbsp\;&nbsp\;&nbsp\;&nbsp\;&nbsp\; </SPAN><o:p></o:p></SPAN></P><P style="TEXT-ALIGN: justify\; MARGIN: 0in 0in 0pt" class=MsoNormal align=left><B><SPAN style="FONT-VARIANT: small-caps\; FONT-FAMILY: 'Times New Roman'\,'serif'\; FONT-SIZE: 12pt">Who:<SPAN style="mso-tab-count: 1">&nbsp\;&nbsp\;</SPAN><SPAN style="mso-spacerun: yes">&nbsp\;&nbsp\;&nbsp\;&nbsp\;&nbsp\;&nbsp\;&nbsp\;&nbsp\;&nbsp\;&nbsp\;&nbsp\;&nbsp\;</SPAN><SPAN style="mso-spacerun: yes">&nbsp\;&nbsp\;&nbsp\;</SPAN>Contacts:&nbsp\;</SPAN></B></P><P style="TEXT-ALIGN: justify\; MARGIN: 0in 0in 0pt" class=MsoNormal align=left><B><SPAN style="FONT-VARIANT: small-caps\; FONT-FAMILY: 'Times New Roman'\,'serif'\; FONT-SIZE: 12pt">&nbsp\;&nbsp\;&nbsp\;&nbsp\;&nbsp\;&nbsp\;&nbsp\;&nbsp\;&nbsp\;&nbsp\;&nbsp\;&nbsp\;&nbsp\;&nbsp\;&nbsp\;&nbsp\;&nbsp\;&nbsp\;&nbsp\;&nbsp\;&nbsp\;&nbsp\;&nbsp\;&nbsp\;&nbsp\;&nbsp\; </SPAN></B><SPAN style="LINE-HEIGHT: 150%\; FONT-FAMILY: 'Times New Roman'\,'serif'\; FONT-SIZE: 12pt\; mso-bidi-font-weight: bold">Brenda Miles\, Mentis Neuro\, SA <SPAN style="mso-spacerun: yes">&nbsp\;</SPAN>~ 210/426-028</SPAN></P><P style="TEXT-ALIGN: justify\; MARGIN: 0in 0in 0pt" class=MsoNormal align=left><SPAN style="LINE-HEIGHT: 150%\; FONT-FAMILY: 'Times New Roman'\,'serif'\; FONT-SIZE: 12pt\; mso-bidi-font-weight: bold"></SPAN><SPAN style="LINE-HEIGHT: 150%\; FONT-FAMILY: 'Times New Roman'\,'serif'\; FONT-SIZE: 12pt\; mso-bidi-font-weight: bold">&nbsp\;&nbsp\;&nbsp\;&nbsp\;&nbsp\;&nbsp\;&nbsp\;&nbsp\;&nbsp\;&nbsp\;&nbsp\;&nbsp\;&nbsp\;&nbsp\;&nbsp\;&nbsp\;&nbsp\;&nbsp\;&nbsp\;&nbsp\;&nbsp\;&nbsp\;&nbsp\;&nbsp\;&nbsp\;&nbsp\;&nbsp\;Wendy Thomas\, North Chamber ~ 210/384-7724<o:p></o:p></SPAN></P><P style="TEXT-ALIGN: justify\; LINE-HEIGHT: 150%\; MARGIN: 0in 0in 0pt\; tab-stops: .5in center 3.0in right 6.0in" class=MsoNormal align=left><SPAN style="LINE-HEIGHT: 150%\; FONT-FAMILY: 'Times New Roman'\,'serif'\; FONT-SIZE: 12pt\; mso-bidi-font-weight: bold"><o:p>&nbsp\;</o:p></SPAN></P><P style="TEXT-ALIGN: justify\; LINE-HEIGHT: 150%\; MARGIN: 0in 0in 0pt\; tab-stops: .5in center 3.0in right 6.0in" class=MsoNormal><SPAN style="LINE-HEIGHT: 150%\; FONT-FAMILY: 'Times New Roman'\,'serif'\; FONT-SIZE: 12pt\; mso-bidi-font-weight: bold"><o:p>&nbsp\;</o:p></SPAN></P></DIV>
LOCATION:Mentis Neuro San Antonio\, LLC
UID:e.2020.987
SEQUENCE:3
DTSTAMP:20260421T192622Z
URL:https://cm-dev.metrosa.com/events/details/2012-march-grand-opening-mentis-neuro-sa-llc-03-01-2012-987
END:VEVENT

END:VCALENDAR
