BEGIN:VCALENDAR
VERSION:2.0
PRODID:-//ChamberMaster//Event Calendar 2.0//EN
METHOD:PUBLISH
X-PUBLISHED-TTL:P3D
REFRESH-INTERVAL:P3D
CALSCALE:GREGORIAN
BEGIN:VEVENT
DTSTART:20120520T190000Z
DTEND:20120520T220000Z
X-MICROSOFT-CDO-ALLDAYEVENT:FALSE
SUMMARY:2012 May*LLAlumni Event*Adventure at Serengeti Resort
DESCRIPTION:
X-ALT-DESC;FMTTYPE=text/html:
LOCATION:The Serengeti Resort
UID:e.2020.1012
SEQUENCE:3
DTSTAMP:20260421T165910Z
URL:https://cm-dev.metrosa.com/events/details/2012-may-llalumni-event-adventure-at-serengeti-resort-05-20-2012-1012
END:VEVENT

END:VCALENDAR
