BEGIN:VCALENDAR
VERSION:2.0
PRODID:-//ChamberMaster//Event Calendar 2.0//EN
METHOD:PUBLISH
X-PUBLISHED-TTL:P3D
REFRESH-INTERVAL:P3D
CALSCALE:GREGORIAN
BEGIN:VEVENT
DTSTART:20121115T210000Z
DTEND:20121115T233000Z
X-MICROSOFT-CDO-ALLDAYEVENT:FALSE
SUMMARY:2012 Nov*2013 BOARD MINI RETREAT
DESCRIPTION:
X-ALT-DESC;FMTTYPE=text/html:
LOCATION:Oak Hills Country Club
UID:e.2020.1067
SEQUENCE:3
DTSTAMP:20260421T084250Z
URL:https://cm-dev.metrosa.com/events/details/2012-nov-2013-board-mini-retreat-11-15-2012-1067
END:VEVENT

END:VCALENDAR
