BEGIN:VCALENDAR
VERSION:2.0
PRODID:-//ChamberMaster//Event Calendar 2.0//EN
METHOD:PUBLISH
X-PUBLISHED-TTL:P3D
REFRESH-INTERVAL:P3D
CALSCALE:GREGORIAN
BEGIN:VEVENT
DTSTART:20121114T060000Z
DTEND:20121114T060000Z
X-MICROSOFT-CDO-ALLDAYEVENT:FALSE
SUMMARY:2012 Nov*Lab Alumni Annual Membership Drive & Networking
DESCRIPTION:2012 Nov*Lab Alumni Annual Membership Drive & Networking
X-ALT-DESC;FMTTYPE=text/html:2012 Nov*Lab Alumni Annual Membership Drive & Networking
LOCATION:The Grille at the Westin La Cantera Resort
UID:e.2020.2706
SEQUENCE:3
DTSTAMP:20260421T082940Z
URL:https://cm-dev.metrosa.com/events/details/2012-nov-lab-alumni-annual-membership-drive-networking-11-14-2012-2706
END:VEVENT

END:VCALENDAR
