BEGIN:VCALENDAR
VERSION:2.0
PRODID:-//ChamberMaster//Event Calendar 2.0//EN
METHOD:PUBLISH
X-PUBLISHED-TTL:P3D
REFRESH-INTERVAL:P3D
CALSCALE:GREGORIAN
BEGIN:VEVENT
DTSTART:20121025T121500Z
DTEND:20121025T140000Z
X-MICROSOFT-CDO-ALLDAYEVENT:FALSE
SUMMARY:2012 Oct CIO Breakfast
DESCRIPTION:Join us for a Panel Discussion focused on the balance between proactive Risk Management andunbounded "What If" analysis that can quickly result in wasted effort if carried too far.
X-ALT-DESC;FMTTYPE=text/html:<P style="MARGIN: 0in 0in 0pt" class=MsoNormal><SPAN style="mso-ascii-font-family: Calibri\; mso-ascii-theme-font: minor-latin\; mso-hansi-font-family: Calibri\; mso-hansi-theme-font: minor-latin\; mso-bidi-font-family: 'Times New Roman'\; mso-bidi-theme-font: minor-bidi"></SPAN></P><P><TABLE dir=ltr border=0 cellSpacing=0 cellPadding=2 width=1207><TBODY><TR><TD height=20 colSpan=9><FONT face=Calibri><P align=left>Join us for a Panel Discussion focused on the balance between proactive Risk Management and<P align=left>unbounded "What If" analysis that can quickly result in wasted effort if carried too far.</FONT></P></TD></TR><TR><TD height=20 width="21%"><P></P></TD><TD height=20 width="22%"><P></P></TD><TD height=20 width="20%"><P></P></TD><TD height=20 width="6%"><P></P></TD><TD height=20 width="6%"><P></P></TD><TD height=20 width="6%"><P></P></TD><TD height=20 width="6%"><P></P></TD><TD height=20 width="6%"><P></P></TD><TD height=20 width="6%"><P></P></TD></TR></TBODY></TABLE></P>
LOCATION:Petroleum Club of San Antonio
UID:e.2020.1037
SEQUENCE:3
DTSTAMP:20260421T095011Z
URL:https://cm-dev.metrosa.com/events/details/2012-oct-cio-breakfast-10-25-2012-1037
END:VEVENT

END:VCALENDAR
