BEGIN:VCALENDAR
VERSION:2.0
PRODID:-//ChamberMaster//Event Calendar 2.0//EN
METHOD:PUBLISH
X-PUBLISHED-TTL:P3D
REFRESH-INTERVAL:P3D
CALSCALE:GREGORIAN
BEGIN:VEVENT
DTSTART:20121020T050000Z
DTEND:20121020T050000Z
X-MICROSOFT-CDO-ALLDAYEVENT:FALSE
SUMMARY:2012 Oct*LLAB Alumni Community Service
DESCRIPTION:2012 Oct*LLAB Alumni Community Service
X-ALT-DESC;FMTTYPE=text/html:2012 Oct*LLAB Alumni Community Service
LOCATION:Pilgrim Headstart Center
UID:e.2020.4298
SEQUENCE:3
DTSTAMP:20260421T095227Z
URL:https://cm-dev.metrosa.com/events/details/2012-oct-llab-alumni-community-service-10-20-2012-4298
END:VEVENT

END:VCALENDAR
