BEGIN:VCALENDAR
VERSION:2.0
PRODID:-//ChamberMaster//Event Calendar 2.0//EN
METHOD:PUBLISH
X-PUBLISHED-TTL:P3D
REFRESH-INTERVAL:P3D
CALSCALE:GREGORIAN
BEGIN:VEVENT
DTSTART:20120927T121500Z
DTEND:20120927T140000Z
X-MICROSOFT-CDO-ALLDAYEVENT:FALSE
SUMMARY:2012 Sept CIO Breakfast
DESCRIPTION:Robert Amos who heads NuStar’s infrastructure group will be presenting on what they have done to set up the Disaster Recovery site in Wichita and what NuStar is doing to move into our new data center in October. He will also talk about their control systems and how they test the backup plan at regular intervals.
X-ALT-DESC;FMTTYPE=text/html:<P style="MARGIN: 0in 0in 0pt" class=MsoNormal><SPAN style="COLOR: #1f497d"><FONT face=Calibri>Robert Amos who heads NuStar’s infrastructure group will be presenting on what they have done to set up the Disaster Recovery site in Wichita and what NuStar is doing to move into our new data center in October. He will also talk about their control systems and how they test the backup plan at regular intervals.<?xml:namespace prefix = o ns = "urn:schemas-microsoft-com:office:office" /><o:p></o:p></FONT></SPAN></P><P style="MARGIN: 0in 0in 0pt" class=MsoNormal><SPAN style="mso-ascii-font-family: Calibri\; mso-ascii-theme-font: minor-latin\; mso-hansi-font-family: Calibri\; mso-hansi-theme-font: minor-latin\; mso-bidi-font-family: 'Times New Roman'\; mso-bidi-theme-font: minor-bidi"><o:p><FONT face=Calibri>&nbsp\;</FONT></o:p></SPAN></P><P>&nbsp\;</P>
LOCATION:Petroleum Club of San Antonio
UID:e.2020.1023
SEQUENCE:3
DTSTAMP:20260421T111336Z
URL:https://cm-dev.metrosa.com/events/details/2012-sept-cio-breakfast-09-27-2012-1023
END:VEVENT

END:VCALENDAR
