BEGIN:VCALENDAR
VERSION:2.0
PRODID:-//ChamberMaster//Event Calendar 2.0//EN
METHOD:PUBLISH
X-PUBLISHED-TTL:P3D
REFRESH-INTERVAL:P3D
CALSCALE:GREGORIAN
BEGIN:VEVENT
DTSTART:20120927T223000Z
DTEND:20120928T003000Z
X-MICROSOFT-CDO-ALLDAYEVENT:FALSE
SUMMARY:2012 Sept Cocktails & Connections
DESCRIPTION:
X-ALT-DESC;FMTTYPE=text/html:<P><FONT size=4><STRONG></STRONG></FONT></P>
LOCATION:TBD
UID:e.2020.948
SEQUENCE:3
DTSTAMP:20260421T111443Z
URL:https://cm-dev.metrosa.com/events/details/2012-sept-cocktails-connections-09-27-2012-948
END:VEVENT

END:VCALENDAR
