BEGIN:VCALENDAR
VERSION:2.0
PRODID:-//ChamberMaster//Event Calendar 2.0//EN
METHOD:PUBLISH
X-PUBLISHED-TTL:P3D
REFRESH-INTERVAL:P3D
CALSCALE:GREGORIAN
BEGIN:VEVENT
DTSTART:20251201T220000Z
DTEND:20251201T230000Z
X-MICROSOFT-CDO-ALLDAYEVENT:FALSE
SUMMARY:2025 Ribbon Cutting: 7 to 7 Dental Grand Opening
DESCRIPTION:Join us as we welcome 7 to 7 Dental and Orthodontics into the Metro SA Chamber with a special Ribbon Cutting and Grand Opening celebration!
X-ALT-DESC;FMTTYPE=text/html:<p><font color="#000000" face="aptos\, sans-serif"><span style="font-size: 16px\;">Join us as we welcome 7 to 7 Dental and Orthodontics into the Metro SA Chamber with a special Ribbon Cutting and Grand Opening celebration!&nbsp\;</span></font><br />\n<br />\n<br />\n<br />\n&nbsp\;</p>\n
LOCATION:7 to 7 Dental and Orthodontics 16350 Blanco Road\, Suite 115 San Antonio\, TX 78232
UID:e.2020.14599
SEQUENCE:3
DTSTAMP:20260422T144209Z
URL:https://cm-dev.metrosa.com/events/details/2025-ribbon-cutting-7-to-7-dental-grand-opening-14599
END:VEVENT

END:VCALENDAR
