BEGIN:VCALENDAR
VERSION:2.0
PRODID:-//ChamberMaster//Event Calendar 2.0//EN
METHOD:PUBLISH
X-PUBLISHED-TTL:P3D
REFRESH-INTERVAL:P3D
CALSCALE:GREGORIAN
BEGIN:VEVENT
DTSTART:20260506T210000Z
DTEND:20260506T220000Z
X-MICROSOFT-CDO-ALLDAYEVENT:FALSE
SUMMARY:2026 Ribbon Cutting: dj's Bar & Grill
DESCRIPTION:Join us as welcome dj's Bar & Grill into the Metro Chamber with a special Ribbon Cutting celebration!
X-ALT-DESC;FMTTYPE=text/html:<p><font color="#000000" face="aptos\, sans-serif"><span style="font-size: 16px\;">Join us as welcome dj&#39\;s Bar &amp\; Grill into the Metro Chamber with a special Ribbon Cutting celebration!</span></font><br />\n<br />\n<br />\n<br />\n&nbsp\;</p>\n
LOCATION:dj's Bar & Grill 1806 N Loop 1604 W San Antonio\, TX 78248
UID:e.2020.14659
SEQUENCE:3
DTSTAMP:20260420T200731Z
URL:https://cm-dev.metrosa.com/events/details/2026-ribbon-cutting-dj-s-bar-grill-14659
END:VEVENT

END:VCALENDAR
