BEGIN:VCALENDAR
VERSION:2.0
PRODID:-//ChamberMaster//Event Calendar 2.0//EN
METHOD:PUBLISH
X-PUBLISHED-TTL:P3D
REFRESH-INTERVAL:P3D
CALSCALE:GREGORIAN
BEGIN:VEVENT
DTSTART:20110929T200000Z
DTEND:20110929T203000Z
X-MICROSOFT-CDO-ALLDAYEVENT:FALSE
SUMMARY:50th Anniversary Morningside Ministries @ Chandler Estate
DESCRIPTION:Morningside Ministries @ Chandler Estate -Location: 137 W. French Place\, SAT 78212Thursday Sept 29\, 201150th Anniversary Ceremony 03:00 p.m.Ribbon Cutting @ 03:00 p.m.   CONTACT: Ms. Yvonne Wheeler (210) 288-3268  CHAMBER CONTACT: Wendy Thomas @ 384-7724 Directions: W. French Place is between San Pedro and N. Main Website: http://www.mmliving.org/communities/chandler-estate
X-ALT-DESC;FMTTYPE=text/html:<DIV><B><FONT size=4><P>Morningside Ministries @ Chandler Estate -</P></B></FONT><FONT size=4 face="Times New Roman"><FONT size=4 face="Times New Roman"><P>Location: 137 W. French Place\, SAT 78212</P><P>Thursday Sept 29\, 2011</P><P>50th Anniversary Ceremony 03:00 p.m.</P><P>Ribbon Cutting @ 03:00 p.m.  </P><P>&nbsp\;</P><P>CONTACT: Ms. Yvonne Wheeler (210) 288-3268 </P><P> CHAMBER CONTACT: Wendy Thomas @ 384-7724</P><P> </P><P>Directions: W. French Place is between San Pedro and N. Main </P></FONT></FONT><I><FONT color=#666666 face="Times New Roman"><FONT color=#666666 face="Times New Roman"></I></FONT></FONT><FONT size=4 face="Times New Roman"><FONT size=4 face="Times New Roman"><P>Website: </FONT></FONT><A href="http://www.mmliving.org/communities/chandler-estate"><U><FONT color=#0000ff size=4 face="Times New Roman"><FONT color=#0000ff size=4 face="Times New Roman"><FONT color=#0000ff size=4 face="Times New Roman">http://www.mmliving.org/communities/chandler-estate</U></FONT></FONT></FONT></A></P></DIV>
LOCATION:Morningside Ministries @ Chandler Estate
UID:e.2020.920
SEQUENCE:3
DTSTAMP:20260422T042848Z
URL:https://cm-dev.metrosa.com/events/details/50th-anniversary-morningside-ministries-chandler-estate-09-29-2011-920
END:VEVENT

END:VCALENDAR
