BEGIN:VCALENDAR
VERSION:2.0
PRODID:-//ChamberMaster//Event Calendar 2.0//EN
METHOD:PUBLISH
X-PUBLISHED-TTL:P3D
REFRESH-INTERVAL:P3D
CALSCALE:GREGORIAN
BEGIN:VEVENT
DTSTART:20111207T200000Z
DTEND:20111207T210000Z
X-MICROSOFT-CDO-ALLDAYEVENT:FALSE
SUMMARY:December 7th ~ Grand Opening Picosito Mexican Cantina
DESCRIPTION:Picosito Mexican Cantina -Location: 4553 N. 1604W\, SAT 78249 (Just down from Scuzzi's Italian Grill) East to West exit NW Military.  Wednesday Dec 7th\, 2011Grand Opening Ceremony ~ 02:00 p.m.Ribbon Cutting @ 02:00 p.m. CONTACT: Mr. Samuel Lopez (210) 214-9835 CHAMBER CONTACT: Wendy Thomas @ 384-7724http://www.bing.com/maps/default.aspx?v=2&pc=FACEBK&mid=8100&rtp=adr.%7Epos.29.595493970376_-98.57471015705_Picosito+Mexican+Cantina_San+Antonio%2C+TX+78249&cp=29.595493970376%7E-98.57471015705&lvl=16&sty=r&rtop=0%7E0%7E0%7E&mode=D&FORM=FBKPL1&mkt=en-US
X-ALT-DESC;FMTTYPE=text/html:<DIV><B><FONT size=4><P>Picosito Mexican Cantina -</P></B><P>Location: 4553 N. 1604W\, SAT 78249 (Just down from Scuzzi's Italian Grill)&nbsp\;East to West exit NW Military. &nbsp\;</P><P>Wednesday Dec 7th\, 2011</P><B><P>Grand Opening Ceremony ~ </B>02:00 p.m.</P><P></P><P>Ribbon Cutting @ 02:00 p.m. </P><P>CONTACT: Mr. Samuel Lopez (210) 214-9835 </P><P></P><P>CHAMBER CONTACT: Wendy Thomas @ 384-7724</P></FONT><I><FONT color=#666666></I></FONT><FONT face=Calibri><P></FONT><A href="http://www.bing.com/maps/default.aspx?v=2&amp\;pc=FACEBK&amp\;mid=8100&amp\;rtp=adr.%7Epos.29.595493970376_-98.57471015705_Picosito+Mexican+Cantina_San+Antonio%2C+TX+78249&amp\;cp=29.595493970376%7E-98.57471015705&amp\;lvl=16&amp\;sty=r&amp\;rtop=0%7E0%7E0%7E&amp\;mode=D&amp\;FORM=FBKPL1&amp\;mkt=en-US"><U><FONT color=#0000ff face=Calibri><FONT color=#0000ff face=Calibri>http://www.bing.com/maps/default.aspx?v=2&amp\;pc=FACEBK&amp\;mid=8100&amp\;rtp=adr.%7Epos.29.595493970376_-98.57471015705_Picosito+Mexican+Cantina_San+Antonio%2C+TX+78249&amp\;cp=29.595493970376%7E-98.57471015705&amp\;lvl=16&amp\;sty=r&amp\;rtop=0%7E0%7E0%7E&amp\;mode=D&amp\;FORM=FBKPL1&amp\;mkt=en-US</U></FONT></FONT></A></P><FONT face=Calibri><P></P></FONT></DIV>
LOCATION:Picosito Mexican Cantina
UID:e.2020.951
SEQUENCE:3
DTSTAMP:20260422T000854Z
URL:https://cm-dev.metrosa.com/events/details/december-7th-grand-opening-picosito-mexican-cantina-12-07-2011-951
END:VEVENT

END:VCALENDAR
