BEGIN:VCALENDAR
VERSION:2.0
PRODID:-//ChamberMaster//Event Calendar 2.0//EN
METHOD:PUBLISH
X-PUBLISHED-TTL:P3D
REFRESH-INTERVAL:P3D
CALSCALE:GREGORIAN
BEGIN:VEVENT
DTSTART:20120410T160000Z
DTEND:20120410T170000Z
X-MICROSOFT-CDO-ALLDAYEVENT:FALSE
SUMMARY:Grand Opening ~ Elements Therapeutic Massage
DESCRIPTION:
X-ALT-DESC;FMTTYPE=text/html:<DIV><P style="MARGIN: 0in 0in 0pt" class=MsoNormal><SPAN style="COLOR: black\; FONT-SIZE: 12pt\; mso-bidi-font-family: Calibri"></SPAN></P></DIV>
LOCATION:Elements Therapeutic Massage
UID:e.2020.991
SEQUENCE:3
DTSTAMP:20260421T182016Z
URL:https://cm-dev.metrosa.com/events/details/grand-opening-elements-therapeutic-massage-04-10-2012-991
END:VEVENT

END:VCALENDAR
