BEGIN:VCALENDAR
VERSION:2.0
PRODID:-//ChamberMaster//Event Calendar 2.0//EN
METHOD:PUBLISH
X-PUBLISHED-TTL:P3D
REFRESH-INTERVAL:P3D
CALSCALE:GREGORIAN
BEGIN:VEVENT
DTSTART:20110804T200000Z
DTEND:20110804T210000Z
X-MICROSOFT-CDO-ALLDAYEVENT:FALSE
SUMMARY:Grand Opening ~ Lifestyle Lift
DESCRIPTION:Lifestyle Lift -Location: 4511 Horizon Hill\, Suite 175\, SAT 78229Thursday Aug 04\, 2011Grand Opening Ceremony 03:00 - 4:00 p.m. Ribbon Cutting @ 03:00 p.m.  CONTACT: Gary Davis (210) 541-0049CHAMBER CONTACT: Wendy Thomas @ 384-7724Website: http://www.lifestylelift.com/index.php?addid=26Directions: The Lifestyle Lift San Antonio center is located west of I-10 and south of Medical Dr\, on the corner of Horizon Hill Blvd and Fountainhead Dr\, directly behind Car Max.
X-ALT-DESC;FMTTYPE=text/html:<B><FONT size=4><P>Lifestyle Lift -</P></B></FONT><FONT size=4 face="Times New Roman"><FONT size=4 face="Times New Roman"><P>Location: 4511 Horizon Hill\, Suite 175\, SAT 78229</P><P>Thursday Aug 04\, 2011</P><P>Grand Opening Ceremony 03:00 - 4:00 p.m. </P><P>Ribbon Cutting @ 03:00 p.m. </P><P> CONTACT: Gary Davis (210) 541-0049</P><P>CHAMBER CONTACT: Wendy Thomas @ 384-7724</P><P>Website: </FONT></FONT><A href="http://www.lifestylelift.com/index.php?addid=26"><U><FONT color=#0000ff size=4 face="Times New Roman"><FONT color=#0000ff size=4 face="Times New Roman"><FONT color=#0000ff size=4 face="Times New Roman">http://www.lifestylelift.com/index.php?addid=26</U></FONT></FONT></FONT></A></P><FONT size=4 face="Times New Roman"><FONT size=4 face="Times New Roman"><P><STRONG>Directions:</STRONG> </FONT></FONT><FONT face="Times New Roman">The Lifestyle Lift San Antonio center is located west of I-10 and south of Medical Dr\, on the corner of Horizon Hill Blvd and Fountainhead Dr\, directly behind Car Max.</P></FONT>
LOCATION:Lifestyle Lift
UID:e.2020.907
SEQUENCE:3
DTSTAMP:20260422T054436Z
URL:https://cm-dev.metrosa.com/events/details/grand-opening-lifestyle-lift-08-04-2011-907
END:VEVENT

END:VCALENDAR
