BEGIN:VCALENDAR
VERSION:2.0
PRODID:-//ChamberMaster//Event Calendar 2.0//EN
METHOD:PUBLISH
X-PUBLISHED-TTL:P3D
REFRESH-INTERVAL:P3D
CALSCALE:GREGORIAN
BEGIN:VEVENT
DTSTART:20120215T220000Z
DTEND:20120215T230000Z
X-MICROSOFT-CDO-ALLDAYEVENT:FALSE
SUMMARY:Grand Opening ~ Porsche of San Antonio New Facility
DESCRIPTION:Regarding:              Grand Opening ~ Porsche of San Antonio New Facility Date:                         Wednesday\, February 15\, 2012 Time:                          4:00 p.m. Ribbon Cutting Ceremony                                      Location:                 9455 IH-10 WestWestbound exit 561 Medical/WurzbachEastbound exit 562 Medical/Callahan                                    What:                        Porsche of San Antonio~         Ribbon Cutting Ceremony at 4:00 p.m.~         Contact: Wendy Thomas North Chamber 210/384-7724~         Porsche of SA Contact: Abigail G. Kampmann ~ 210-738-3499~         Tour of new dealership featuring the first Porsche LEED certified building in the USEvent Time:             4:00 – 5:00 p.m.            Who:                          Michael Bartsch                                    Executive Vice President and COO                                    Porsche Cars North America
X-ALT-DESC;FMTTYPE=text/html:<DIV><P style="TEXT-ALIGN: justify\; MARGIN: 0in 0in 0pt" class=MsoNormal><B><SPAN style="FONT-VARIANT: small-caps\; FONT-FAMILY: 'Times New Roman'\,'serif'\; FONT-SIZE: 12pt">Regarding:<SPAN style="mso-tab-count: 2">&nbsp\;&nbsp\;&nbsp\;&nbsp\;&nbsp\;&nbsp\;&nbsp\;&nbsp\;&nbsp\;&nbsp\;&nbsp\;&nbsp\;&nbsp\; </SPAN>Grand Opening ~ </SPAN></B><B><SPAN style="FONT-FAMILY: 'Times New Roman'\,'serif'\; FONT-SIZE: 12pt">Porsche of San Antonio New Facility</SPAN></B><SPAN style="FONT-FAMILY: 'Times New Roman'\,'serif'\; FONT-SIZE: 12pt"><?xml:namespace prefix = o ns = "urn:schemas-microsoft-com:office:office" /><o:p></o:p></SPAN></P><P style="TEXT-ALIGN: justify\; MARGIN: 0in 0in 0pt" class=MsoNormal><B><SPAN style="FONT-VARIANT: small-caps\; FONT-FAMILY: 'Times New Roman'\,'serif'\; FONT-SIZE: 12pt"><o:p>&nbsp\;</o:p></SPAN></B></P><P style="TEXT-ALIGN: justify\; MARGIN: 0in 0in 0pt" class=MsoNormal><B><SPAN style="FONT-VARIANT: small-caps\; FONT-FAMILY: 'Times New Roman'\,'serif'\; FONT-SIZE: 12pt">Date:</SPAN></B><SPAN style="FONT-FAMILY: 'Times New Roman'\,'serif'\; FONT-SIZE: 12pt"><SPAN style="mso-tab-count: 3">&nbsp\;&nbsp\;&nbsp\;&nbsp\;&nbsp\;&nbsp\;&nbsp\;&nbsp\;&nbsp\;&nbsp\;&nbsp\;&nbsp\;&nbsp\;&nbsp\;&nbsp\;&nbsp\;&nbsp\;&nbsp\;&nbsp\;&nbsp\;&nbsp\;&nbsp\;&nbsp\;&nbsp\; </SPAN>Wednesday\, February 15\, 2012<o:p></o:p></SPAN></P><P style="TEXT-ALIGN: justify\; MARGIN: 0in 0in 0pt" class=MsoNormal><B><SPAN style="FONT-VARIANT: small-caps\; FONT-FAMILY: 'Times New Roman'\,'serif'\; FONT-SIZE: 12pt"><o:p>&nbsp\;</o:p></SPAN></B></P><P style="TEXT-ALIGN: justify\; MARGIN: 0in 0in 0pt" class=MsoNormal><B><SPAN style="FONT-VARIANT: small-caps\; FONT-FAMILY: 'Times New Roman'\,'serif'\; FONT-SIZE: 12pt">Time</SPAN></B><B><SPAN style="FONT-FAMILY: 'Times New Roman'\,'serif'\; FONT-SIZE: 12pt">:</SPAN></B><SPAN style="FONT-FAMILY: 'Times New Roman'\,'serif'\; FONT-SIZE: 12pt"><SPAN style="mso-tab-count: 3">&nbsp\;&nbsp\;&nbsp\;&nbsp\;&nbsp\;&nbsp\;&nbsp\;&nbsp\;&nbsp\;&nbsp\;&nbsp\;&nbsp\;&nbsp\;&nbsp\;&nbsp\;&nbsp\;&nbsp\;&nbsp\;&nbsp\;&nbsp\;&nbsp\;&nbsp\;&nbsp\;&nbsp\;&nbsp\; </SPAN>4:00 p.m. Ribbon Cutting Ceremony<SPAN style="mso-spacerun: yes">&nbsp\; </SPAN><o:p></o:p></SPAN></P><P style="TEXT-ALIGN: justify\; MARGIN: 0in 0in 0pt" class=MsoNormal><SPAN style="FONT-FAMILY: 'Times New Roman'\,'serif'\; FONT-SIZE: 12pt"><SPAN style="mso-tab-count: 3">&nbsp\;&nbsp\;&nbsp\;&nbsp\;&nbsp\;&nbsp\;&nbsp\;&nbsp\;&nbsp\;&nbsp\;&nbsp\;&nbsp\;&nbsp\;&nbsp\;&nbsp\;&nbsp\;&nbsp\;&nbsp\;&nbsp\;&nbsp\;&nbsp\;&nbsp\;&nbsp\;&nbsp\;&nbsp\;&nbsp\;&nbsp\;&nbsp\;&nbsp\;&nbsp\;&nbsp\;&nbsp\;&nbsp\;&nbsp\;&nbsp\; </SPAN><B><SPAN style="FONT-VARIANT: small-caps"><o:p></o:p></SPAN></B></SPAN></P><P style="TEXT-ALIGN: justify\; MARGIN: 0in 0in 0pt" class=MsoNormal><B><SPAN style="FONT-VARIANT: small-caps\; FONT-FAMILY: 'Times New Roman'\,'serif'\; FONT-SIZE: 12pt">Location:</SPAN></B><SPAN style="FONT-FAMILY: 'Times New Roman'\,'serif'\; FONT-SIZE: 12pt"><SPAN style="mso-tab-count: 2">&nbsp\;&nbsp\;&nbsp\;&nbsp\;&nbsp\;&nbsp\;&nbsp\;&nbsp\;&nbsp\;&nbsp\;&nbsp\;&nbsp\;&nbsp\;&nbsp\;&nbsp\;&nbsp\; </SPAN>9455 IH-10 West<o:p></o:p></SPAN></P><P style="TEXT-ALIGN: justify\; MARGIN: 0in 0in 0pt 1.5in" class=MsoNormal><SPAN style="FONT-FAMILY: 'Times New Roman'\,'serif'\; FONT-SIZE: 12pt">Westbound exit 561 Medical/Wurzbach<o:p></o:p></SPAN></P><P style="TEXT-ALIGN: justify\; MARGIN: 0in 0in 0pt 1.5in" class=MsoNormal><SPAN style="FONT-FAMILY: 'Times New Roman'\,'serif'\; FONT-SIZE: 12pt">Eastbound exit 562 Medical/Callahan<o:p></o:p></SPAN></P><P style="TEXT-ALIGN: justify\; MARGIN: 0in 0in 0pt" class=MsoNormal><SPAN style="FONT-FAMILY: 'Times New Roman'\,'serif'\; FONT-SIZE: 12pt"><SPAN style="mso-tab-count: 3">&nbsp\;&nbsp\;&nbsp\;&nbsp\;&nbsp\;&nbsp\;&nbsp\;&nbsp\;&nbsp\;&nbsp\;&nbsp\;&nbsp\;&nbsp\;&nbsp\;&nbsp\;&nbsp\;&nbsp\;&nbsp\;&nbsp\;&nbsp\;&nbsp\;&nbsp\;&nbsp\;&nbsp\;&nbsp\;&nbsp\;&nbsp\;&nbsp\;&nbsp\;&nbsp\;&nbsp\;&nbsp\;&nbsp\;&nbsp\;&nbsp\; </SPAN><o:p></o:p></SPAN></P><P style="TEXT-ALIGN: justify\; LINE-HEIGHT: 150%\; TEXT-INDENT: -1.5in\; MARGIN: 0in 0in 0pt 1.5in\; tab-stops: .5in center 3.0in right 6.0in" class=MsoNormal><B><SPAN style="LINE-HEIGHT: 150%\; FONT-VARIANT: small-caps\; FONT-FAMILY: 'Times New Roman'\,'serif'\; FONT-SIZE: 12pt">What:<SPAN style="mso-tab-count: 1">&nbsp\;&nbsp\;&nbsp\;&nbsp\;&nbsp\;&nbsp\;&nbsp\;&nbsp\;&nbsp\;&nbsp\;&nbsp\;&nbsp\;&nbsp\;&nbsp\;&nbsp\;&nbsp\;&nbsp\;&nbsp\;&nbsp\;&nbsp\;&nbsp\;&nbsp\;&nbsp\; </SPAN></SPAN></B><SPAN style="LINE-HEIGHT: 150%\; FONT-FAMILY: 'Times New Roman'\,'serif'\; FONT-SIZE: 12pt">Porsche of San Antonio<o:p></o:p></SPAN></P><P style="TEXT-ALIGN: justify\; LINE-HEIGHT: 150%\; TEXT-INDENT: -0.25in\; MARGIN: 0in 0in 0pt 2in\; tab-stops: .5in center 3.0in right 6.0in\; mso-list: l0 level1 lfo1" class=MsoNormal><SPAN style="LINE-HEIGHT: 150%\; FONT-FAMILY: Symbol\; FONT-SIZE: 12pt\; mso-fareast-font-family: Symbol\; mso-bidi-font-family: Symbol\; mso-bidi-font-weight: bold"><SPAN style="mso-list: Ignore">~<SPAN style="FONT: 7pt 'Times New Roman'">&nbsp\;&nbsp\;&nbsp\;&nbsp\;&nbsp\;&nbsp\;&nbsp\;&nbsp\; </SPAN></SPAN></SPAN><SPAN style="LINE-HEIGHT: 150%\; FONT-FAMILY: 'Times New Roman'\,'serif'\; FONT-SIZE: 12pt">Ribbon Cutting Ceremony at<SPAN style="mso-bidi-font-weight: bold"> 4:00 p.m.<o:p></o:p></SPAN></SPAN></P><P style="TEXT-ALIGN: justify\; LINE-HEIGHT: 150%\; TEXT-INDENT: -0.25in\; MARGIN: 0in 0in 0pt 2in\; tab-stops: .5in center 3.0in right 6.0in\; mso-list: l0 level1 lfo1" class=MsoNormal><SPAN style="LINE-HEIGHT: 150%\; FONT-FAMILY: Symbol\; FONT-SIZE: 12pt\; mso-fareast-font-family: Symbol\; mso-bidi-font-family: Symbol\; mso-bidi-font-weight: bold"><SPAN style="mso-list: Ignore">~<SPAN style="FONT: 7pt 'Times New Roman'">&nbsp\;&nbsp\;&nbsp\;&nbsp\;&nbsp\;&nbsp\;&nbsp\;&nbsp\; </SPAN></SPAN></SPAN><SPAN style="LINE-HEIGHT: 150%\; FONT-FAMILY: 'Times New Roman'\,'serif'\; FONT-SIZE: 12pt\; mso-bidi-font-weight: bold">Contact: Wendy Thomas North Chamber 210/384-7724</SPAN></P><SPAN style="LINE-HEIGHT: 150%\; FONT-FAMILY: 'Times New Roman'\,'serif'\; FONT-SIZE: 12pt\; mso-bidi-font-weight: bold"><o:p><P style="TEXT-ALIGN: justify\; LINE-HEIGHT: 150%\; TEXT-INDENT: -0.25in\; MARGIN: 0in 0in 0pt 2in\; tab-stops: .5in center 3.0in right 6.0in\; mso-list: l0 level1 lfo1" class=MsoNormal><SPAN style="LINE-HEIGHT: 150%\; FONT-FAMILY: Symbol\; FONT-SIZE: 12pt\; mso-fareast-font-family: Symbol\; mso-bidi-font-family: Symbol\; mso-bidi-font-weight: bold"><SPAN style="mso-list: Ignore">~<SPAN style="FONT: 7pt 'Times New Roman'">&nbsp\;&nbsp\;&nbsp\;&nbsp\;&nbsp\;&nbsp\;&nbsp\;&nbsp\; </SPAN></SPAN></SPAN><SPAN style="LINE-HEIGHT: 150%\; FONT-FAMILY: 'Times New Roman'\,'serif'\; FONT-SIZE: 12pt\; mso-bidi-font-weight: bold">Porsche of SA Contact: Abigail G. Kampmann ~ 210-738-3499<o:p></o:p></SPAN></P></o:p></SPAN><P style="TEXT-ALIGN: justify\; LINE-HEIGHT: 150%\; TEXT-INDENT: -0.25in\; MARGIN: 0in 0in 0pt 2in\; tab-stops: .5in center 3.0in right 6.0in\; mso-list: l0 level1 lfo1" class=MsoNormal><SPAN style="LINE-HEIGHT: 150%\; FONT-FAMILY: Symbol\; FONT-SIZE: 12pt\; mso-fareast-font-family: Symbol\; mso-bidi-font-family: Symbol\; mso-bidi-font-weight: bold"><SPAN style="mso-list: Ignore">~<SPAN style="FONT: 7pt 'Times New Roman'">&nbsp\;&nbsp\;&nbsp\;&nbsp\;&nbsp\;&nbsp\;&nbsp\;&nbsp\; </SPAN></SPAN></SPAN><SPAN style="LINE-HEIGHT: 150%\; FONT-FAMILY: 'Times New Roman'\,'serif'\; FONT-SIZE: 12pt\; mso-bidi-font-weight: bold">Tour of new dealership featuring the first </SPAN><SPAN style="LINE-HEIGHT: 150%\; FONT-FAMILY: 'Times New Roman'\,'serif'\; FONT-SIZE: 12pt">Porsche LEED certified building in the US<SPAN style="mso-bidi-font-weight: bold"><o:p></o:p></SPAN></SPAN></P><P style="TEXT-ALIGN: justify\; LINE-HEIGHT: 150%\; TEXT-INDENT: -1.5in\; MARGIN: 0in 0in 0pt 1.5in\; tab-stops: .5in center 3.0in right 6.0in" class=MsoNormal><B><SPAN style="LINE-HEIGHT: 150%\; FONT-VARIANT: small-caps\; FONT-FAMILY: 'Times New Roman'\,'serif'\; FONT-SIZE: 12pt">Event Time:<SPAN style="mso-tab-count: 1">&nbsp\;&nbsp\;&nbsp\;&nbsp\;&nbsp\;&nbsp\;&nbsp\;&nbsp\;&nbsp\;&nbsp\;&nbsp\;&nbsp\; </SPAN></SPAN></B><SPAN style="LINE-HEIGHT: 150%\; FONT-VARIANT: small-caps\; FONT-FAMILY: 'Times New Roman'\,'serif'\; FONT-SIZE: 12pt\; mso-bidi-font-weight: bold">4:00</SPAN><SPAN style="LINE-HEIGHT: 150%\; FONT-FAMILY: 'Times New Roman'\,'serif'\; FONT-SIZE: 12pt\; mso-bidi-font-weight: bold"> – 5:00 p.m.</SPAN><SPAN style="LINE-HEIGHT: 150%\; FONT-FAMILY: 'Times New Roman'\,'serif'\; FONT-SIZE: 12pt"><o:p></o:p></SPAN></P><P style="TEXT-ALIGN: justify\; LINE-HEIGHT: 150%\; TEXT-INDENT: -1.5in\; MARGIN: 0in 0in 0pt 1.5in\; tab-stops: .5in center 3.0in right 6.0in" class=MsoNormal><SPAN style="LINE-HEIGHT: 150%\; FONT-FAMILY: 'Times New Roman'\,'serif'\; FONT-SIZE: 12pt"><SPAN style="mso-tab-count: 1">&nbsp\;&nbsp\;&nbsp\;&nbsp\;&nbsp\;&nbsp\;&nbsp\;&nbsp\;&nbsp\;&nbsp\;&nbsp\; </SPAN><o:p></o:p></SPAN></P><P style="TEXT-ALIGN: justify\; MARGIN: 0in 0in 0pt" class=MsoNormal><B style="mso-bidi-font-weight: normal"><SPAN style="FONT-VARIANT: small-caps\; FONT-FAMILY: 'Times New Roman'\,'serif'\; FONT-SIZE: 12pt">Who:<SPAN style="mso-tab-count: 3">&nbsp\;&nbsp\;&nbsp\;&nbsp\;&nbsp\;&nbsp\;&nbsp\;&nbsp\;&nbsp\;&nbsp\;&nbsp\;&nbsp\;&nbsp\;&nbsp\;&nbsp\;&nbsp\;&nbsp\;&nbsp\;&nbsp\;&nbsp\;&nbsp\;&nbsp\;&nbsp\;&nbsp\;&nbsp\; </SPAN></SPAN></B><SPAN style="FONT-FAMILY: 'Times New Roman'\,'serif'\; FONT-SIZE: 12pt">Michael Bartsch<o:p></o:p></SPAN></P><P style="TEXT-ALIGN: justify\; MARGIN: 0in 0in 0pt" class=MsoNormal><SPAN style="FONT-FAMILY: 'Times New Roman'\,'serif'\; FONT-SIZE: 12pt"><SPAN style="mso-tab-count: 3">&nbsp\;&nbsp\;&nbsp\;&nbsp\;&nbsp\;&nbsp\;&nbsp\;&nbsp\;&nbsp\;&nbsp\;&nbsp\;&nbsp\;&nbsp\;&nbsp\;&nbsp\;&nbsp\;&nbsp\;&nbsp\;&nbsp\;&nbsp\;&nbsp\;&nbsp\;&nbsp\;&nbsp\;&nbsp\;&nbsp\;&nbsp\;&nbsp\;&nbsp\;&nbsp\;&nbsp\;&nbsp\;&nbsp\;&nbsp\;&nbsp\; </SPAN>Executive Vice President and COO<o:p></o:p></SPAN></P><P style="TEXT-ALIGN: justify\; MARGIN: 0in 0in 0pt" class=MsoNormal><SPAN style="FONT-FAMILY: 'Times New Roman'\,'serif'\; FONT-SIZE: 12pt"><SPAN style="mso-tab-count: 3">&nbsp\;&nbsp\;&nbsp\;&nbsp\;&nbsp\;&nbsp\;&nbsp\;&nbsp\;&nbsp\;&nbsp\;&nbsp\;&nbsp\;&nbsp\;&nbsp\;&nbsp\;&nbsp\;&nbsp\;&nbsp\;&nbsp\;&nbsp\;&nbsp\;&nbsp\;&nbsp\;&nbsp\;&nbsp\;&nbsp\;&nbsp\;&nbsp\;&nbsp\;&nbsp\;&nbsp\;&nbsp\;&nbsp\;&nbsp\;&nbsp\; </SPAN>Porsche Cars North America <o:p></o:p></SPAN></P><P style="MARGIN: 0in 0in 0pt" class=MsoNormal><SPAN style="COLOR: black\; FONT-SIZE: 12pt\; mso-bidi-font-family: Calibri"><o:p><FONT face=Calibri>&nbsp\;</FONT></o:p></SPAN></P><P style="MARGIN: 0in 0in 0pt" class=MsoNormal><SPAN style="COLOR: black\; FONT-SIZE: 12pt\; mso-bidi-font-family: Calibri"><o:p><FONT face=Calibri>&nbsp\;</FONT></o:p></SPAN></P></DIV>
LOCATION:Porsche of San Antonio New Facility
UID:e.2020.983
SEQUENCE:3
DTSTAMP:20260421T210429Z
URL:https://cm-dev.metrosa.com/events/details/grand-opening-porsche-of-san-antonio-new-facility-02-15-2012-983
END:VEVENT

END:VCALENDAR
