BEGIN:VCALENDAR
VERSION:2.0
PRODID:-//ChamberMaster//Event Calendar 2.0//EN
METHOD:PUBLISH
X-PUBLISHED-TTL:P3D
REFRESH-INTERVAL:P3D
CALSCALE:GREGORIAN
BEGIN:VEVENT
DTSTART:20110913T153000Z
DTEND:20110913T163000Z
X-MICROSOFT-CDO-ALLDAYEVENT:FALSE
SUMMARY:Sept 13 ~ Grand Opening Adante Senior Living
DESCRIPTION:Adante Senior Living -Location: 2702 & 2731 Cembalo Boulevard\, SAT 78231Tuesday Sept 13\, 2011Grand Opening Ceremony 10:30 - 11:30 a.m. Ribbon Cutting @ 10:30 a.m. CONTACT: Mrs. Kelly Vanburkleo (210) 493-0101 CHAMBER CONTACT: Wendy Thomas @ 384-7724Directions: Wurzbach Rd. - Turn right onto Vance Jackson Rd. 0.5 miles past Whisper Sound St (If you reach Oakgate Dr you've gone a little too far) 0.2 mi Take the 1st right onto Wellsprings Dr. (If you reach Jackson Ct you've gone a little too far) Website: http://www.adantelife.com/
X-ALT-DESC;FMTTYPE=text/html:<DIV><B><FONT size=4><P>Adante Senior Living -</P></B></FONT><FONT size=4><FONT size=4><P><FONT face="Times New Roman">Location: 2702 &amp\; 2731 Cembalo Boulevard\, SAT 78231</FONT></P><P><FONT face="Times New Roman">Tuesday Sept 13\, 2011</FONT></P><P><FONT face="Times New Roman">Grand Opening Ceremony 10:30 - 11:30 a.m. </FONT></P><P><FONT face="Times New Roman">Ribbon Cutting @ 10:30 a.m. </FONT></P><P><FONT face="Times New Roman"></FONT><FONT face="Times New Roman">CONTACT: Mrs. Kelly Vanburkleo (210) 493-0101 </FONT></P><P><FONT face="Times New Roman"></FONT><FONT face="Times New Roman">CHAMBER CONTACT: Wendy Thomas @ 384-7724</FONT></P><P><FONT face="Times New Roman"></FONT><FONT face="Times New Roman">Directions: </FONT></FONT></FONT><FONT face="Times New Roman">Wurzbach Rd. - Turn right onto Vance Jackson Rd. 0.5 miles past Whisper Sound St (If you reach Oakgate Dr you've gone a little too far) 0.2 mi Take the 1st right onto Wellsprings Dr. (If you reach Jackson Ct you've gone a little too far) </FONT></P><I><FONT color=#666666><FONT color=#666666><DIR></I></FONT></FONT><FONT size=4><FONT size=4><P><FONT face="Times New Roman">Website: </FONT></FONT></FONT><A href="http://www.adantelife.com/"><U><FONT color=#0000ff size=4><FONT color=#0000ff size=4><FONT color=#0000ff size=4><FONT face="Times New Roman">http://www.adantelife.com/</FONT></U></FONT></FONT></FONT></A></P><FONT face=Calibri></DIR></FONT></DIV>
LOCATION:Adante Senior Living
UID:e.2020.915
SEQUENCE:3
DTSTAMP:20260422T042857Z
URL:https://cm-dev.metrosa.com/events/details/sept-13-grand-opening-adante-senior-living-09-13-2011-915
END:VEVENT

END:VCALENDAR
