BEGIN:VCALENDAR
VERSION:2.0
PRODID:-//ChamberMaster//Event Calendar 2.0//EN
METHOD:PUBLISH
X-PUBLISHED-TTL:P3D
REFRESH-INTERVAL:P3D
CALSCALE:GREGORIAN
BEGIN:VEVENT
DTSTART:20110920T150000Z
DTEND:20110920T160000Z
X-MICROSOFT-CDO-ALLDAYEVENT:FALSE
SUMMARY:Sept 20 ~ Grand Opening Integrated Business Technologies (IBT)
DESCRIPTION:Integrated Business Technologies\, Inc. (IBT) Location: 12669 Silicon\, SAT 78249Tuesday Sept 20\, 2011Grand Opening Ceremony 10:00 - 11:00 a.m. Ribbon Cutting @ 10:00 a.m.  CONTACT: Mike Mueller (210) 998-3761 CHAMBER CONTACT: Wendy Thomas @ 384-7724 Directions. McDermott Fwy. / De Zavala Rd. Turn right onto Farinon Dr. If you reach Northwest Pky you've gone about 0.5 miles too far\, left onto Silicon Dr. If you reach Epsilon you've gone about 0.4 miles too far
X-ALT-DESC;FMTTYPE=text/html:<DIV><B><FONT size=4><P>Integrated Business Technologies\, Inc. (IBT) </P></B></FONT><FONT size=4><FONT size=4><P><FONT face="Times New Roman"><STRONG>Location:</STRONG> 12669 Silicon\, SAT 78249</FONT></P><P><FONT face="Times New Roman">Tuesday Sept 20\, 2011</FONT></P><P><FONT face="Times New Roman">Grand Opening Ceremony 10:00 - 11:00 a.m. </FONT></P><P><FONT face="Times New Roman">Ribbon Cutting @ 10:00 a.m. </FONT></P><P><FONT face="Times New Roman"> </FONT><FONT face="Times New Roman">CONTACT: Mike Mueller (210) 998-3761</FONT></P><P><FONT face="Times New Roman"> </FONT><FONT face="Times New Roman">CHAMBER CONTACT: Wendy Thomas @ 384-7724</FONT></P><P><FONT face="Times New Roman"> </FONT><FONT face="Times New Roman">Directions</FONT></FONT></FONT><FONT face="Times New Roman">. McDermott Fwy. /<FONT size=4><FONT size=4> </FONT></FONT>De Zavala Rd. Turn right onto Farinon Dr. </FONT></P><DIR><DIR><P>If you reach Northwest Pky you've gone about 0.5 miles too far\, left onto Silicon Dr. </P><P>If you reach Epsilon you've gone about 0.4 miles too far</P></DIR></DIR></DIV>
LOCATION:Integrated Business Tehcnologies-IBT
UID:e.2020.916
SEQUENCE:3
DTSTAMP:20260422T042737Z
URL:https://cm-dev.metrosa.com/events/details/sept-20-grand-opening-integrated-business-technologies-ibt-09-20-2011-916
END:VEVENT

END:VCALENDAR
