BEGIN:VCALENDAR
VERSION:2.0
PRODID:-//ChamberMaster//Event Calendar 2.0//EN
METHOD:PUBLISH
X-PUBLISHED-TTL:P3D
REFRESH-INTERVAL:P3D
CALSCALE:GREGORIAN
BEGIN:VEVENT
DTSTART:20110909T200000Z
DTEND:20110909T210000Z
X-MICROSOFT-CDO-ALLDAYEVENT:FALSE
SUMMARY:Sept 9th Grand Opening ~ A Plus Automotive & Collision
DESCRIPTION:A Plus Automotive & Collision -Location: 7538 Marbach Rd SAT 78227Friday Sept 9\, 2011Grand Opening Ceremony 03:00 - 4:00 p.m. Ribbon Cutting @ 03:00 p.m.  CONTACT: Mr. Mark Carvajal (210) 421-5212 CHAMBER CONTACT: Wendy Thomas @ 384-7724 Directions: From North Chamber US-281 to W/I-410-LOOP W. to SW I-410 ~ Exit Marbach Rd. from I-410 Turn left onto Marbach Rd. Marbach Rd is 0.4 miles past Waters Edge Dr Website: http://www.aplusautorepairsa.com/
X-ALT-DESC;FMTTYPE=text/html:<DIV><B><FONT size=4><P>A Plus Automotive &amp\; Collision -</P></B></FONT><FONT size=4><FONT size=4><P><FONT face="Times New Roman">Location: 7538 Marbach Rd SAT 78227</FONT></P><P><FONT face="Times New Roman">Friday Sept 9\, 2011</FONT></P><P><FONT face="Times New Roman">Grand Opening Ceremony 03:00 - 4:00 p.m. </FONT></P><P><FONT face="Times New Roman">Ribbon Cutting @ 03:00 p.m. </FONT></P><P><FONT face="Times New Roman"> </FONT><FONT face="Times New Roman">CONTACT: Mr. Mark Carvajal (210) 421-5212</FONT></P><P><FONT face="Times New Roman"> </FONT><FONT face="Times New Roman">CHAMBER CONTACT: Wendy Thomas @ 384-7724</FONT></P><P><FONT face="Times New Roman"> </FONT><FONT face="Times New Roman">Directions: From North Chamber</FONT></FONT></FONT><FONT face="Times New Roman"> US-281 to W/I-410-LOOP W. to SW I-410 ~ Exit Marbach Rd. from I-410 Turn left onto Marbach Rd. </FONT></P><DIR><DIR><P>Marbach Rd is 0.4 miles past Waters Edge Dr </P><I><FONT color=#666666 face="Times New Roman"><FONT color=#666666 face="Times New Roman"></DIR></I></FONT></FONT><FONT size=4 face="Times New Roman"><FONT size=4 face="Times New Roman"><P>Website: </FONT></FONT><A href="http://www.aplusautorepairsa.com/"><U><FONT color=#0000ff size=4 face="Times New Roman"><FONT color=#0000ff size=4 face="Times New Roman"><FONT color=#0000ff size=4 face="Times New Roman">http://www.aplusautorepairsa.com/</U></FONT></FONT></FONT></A></P></DIR></DIV>
LOCATION:A Plus Automotive & Collision
UID:e.2020.914
SEQUENCE:3
DTSTAMP:20260422T042821Z
URL:https://cm-dev.metrosa.com/events/details/sept-9th-grand-opening-a-plus-automotive-collision-09-09-2011-914
END:VEVENT

END:VCALENDAR
