BEGIN:VCALENDAR
VERSION:2.0
PRODID:-//ChamberMaster//Event Calendar 2.0//EN
METHOD:PUBLISH
X-PUBLISHED-TTL:P3D
REFRESH-INTERVAL:P3D
CALSCALE:GREGORIAN
BEGIN:VEVENT
DTSTART:20260203T163000Z
DTEND:20260203T180000Z
X-MICROSOFT-CDO-ALLDAYEVENT:FALSE
SUMMARY:Speed Networking Event with BNI
DESCRIPTION:In celebration of International Networking Week\, the Metro SA Chamber is proud to join forces with BNI San Antonio for a dynamic Speed Networking Event. This high-energy experience is designed to help professionals make meaningful connections\, share resources\, and build relationships that support business growth across our community. Join us for an engaging morning of collaboration\, connection\, and opportunity.\n\n\nThis event will take place at the Metro Chamber.
X-ALT-DESC;FMTTYPE=text/html:<br />\n<span style="font-size:14px\;"><span style="font-family:arial\;"><span style="color: rgb(0\, 0\, 0)\;">In celebration of International Networking Week\, the Metro SA Chamber is proud to join forces with BNI San Antonio for a dynamic Speed Networking Event. This high-energy experience is designed to help professionals make meaningful connections\, share resources\, and build relationships that support business growth across our community. Join us for an engaging morning of collaboration\, connection\, and opportunity.</span></span></span>\n<div style="color: rgb(0\, 0\, 0)\; font-family: Tahoma\, Geneva\, sans-serif\; font-size: 14px\; white-space: pre-wrap\;"><br />\nThis event will take place at the Metro Chamber.</div>\n
LOCATION:Metro SA Chamber 12930 Country Parkway\, San Antonio\, TX 78216
UID:e.2020.14627
SEQUENCE:3
DTSTAMP:20260422T120630Z
URL:https://cm-dev.metrosa.com/events/details/speed-networking-event-with-bni-14627
END:VEVENT

END:VCALENDAR
